Workbook
Name asd: '[1]8D-Report'!#REF!
Name asd: '[1]8D-Report'!#REF!
Name asd: '[1]8D-Report'!#REF!
Name asd: '[1]8D-Report'!#REF!
Name asd: '[1]8D-Report'!#REF!
Name asd: '[1]8D-Report'!#REF!
Name asd: '[1]8D-Report'!#REF!
Name bmAnwendungLL: '[1]Lessons Learned'!$AB$24
Name bmAnwendungNeinLL: '[1]Lessons Learned'!$AG$24
Name bmBezeichnungST: [1]Schadenstisch!$C$3
Name bmContainmentActions: [1]Ref!$M$2
Name bmCurLanguage: [1]PMP!$C$11
Name bmFehlerauftreten8D: '[1]8D-Report'!$B$51:$AY$51
Name bmFehlerauftretenAN: '[1]Action List'!$B$57:$AY$57
Name bmFehlerauftretenANEnde: '[1]Action List'!$B$60:$AY$60
Name bmFehlermerkmal: [1]Ref!$R$2
Name bmFehlerursacheAbstell: [1]Ref!$P$2
Name bmFehlerverursacherKundST: [1]Schadenstisch!$M$12
Name bmFehlerverursacherLiefBroST: [1]Schadenstisch!$J$14
Name bmFehlerverursacherLieferantST: [1]Schadenstisch!$J$12
Name bmFehlerverursacherST: [1]Schadenstisch!$D$12
Name bmFTA: [1]Ref!$N$2
Name bmHeaderData: [1]Ref!$J$2
Name bmIOLieferung: '[1]Action List'!$B$20:$Z$20
Name bmiOLieferung8D: '[1]8D-Report'!$B$40
Name bmIshaikawa: [1]Ref!$L$2
Name bmJa: [1]Ref!$S$2
Name bmMaschine: [1]Ref!$V$2
Name bmMasnahmeAnweisungST: [1]Schadenstisch!$D$34
Name bmMasnahmeAuftretenAN: '[1]Action List'!$B$56
Name bmMasnahmeAuftretenST: [1]Schadenstisch!$B$21
Name bmMasnahmeFMEAST: [1]Schadenstisch!$S$30
Name bmMasnahmeFreiST: [1]Schadenstisch!$J$32
Name bmMasnahmeNichtEndeAN: '[1]Action List'!$B$66:$Z$66
Name bmMasnahmeNichtentdeckenAN: '[1]Action List'!$B$60:$Z$60
Name bmMasnahmeNichtentdeckenST: [1]Schadenstisch!$B$25
Name bmMasnahmeNormST: [1]Schadenstisch!$J$30
Name bmMasnahmenST: [1]Schadenstisch!$D$30
Name bmMasnahmePLPST: [1]Schadenstisch!$J$34
Name bmMasnahmeWartungsplanST: [1]Schadenstisch!$S$32
Name bmMasnahmeWiederST: [1]Schadenstisch!$C$29:$Z$29
Name bmMasnahmeZeichnungST: [1]Schadenstisch!$D$32
Name bmMaterial: [1]Ref!$W$2
Name bmMensch: [1]Ref!$U$2
Name bmMethode: [1]Ref!$X$2
Name bmMittwelt: [1]Ref!$Y$2
Name bmnachweisAN: #REF!
Name bmnachweisAN: #REF!
Name bmnachweisAN: #REF!
Name bmnachweisAN: #REF!
Name bmnachweisAN: #REF!
Name bmnachweisAN: #REF!
Name bmnachweisAN: #REF!
Name bmnachweisAN: #REF!
Name bmnachweisAN: #REF!
Name bmNachweisNeinAN: #REF!
Name bmNachweisNeinAN: #REF!
Name bmNachweisNeinAN: #REF!
Name bmNachweisNeinAN: #REF!
Name bmNachweisNeinAN: #REF!

Sheet PMP Start
B1: =VLOOKUP(1002,Languages!A5:C455,Languages!A2,FALSE) -> Template for supplier-8D
S2: Release 2021 (15.04.2021)
C4: =VLOOKUP(1001,Languages!A5:C455,Languages!A2,FALSE) -> Language: | E4: English | G4: t | K4: =VLOOKUP(1006,Languages!A5:C455,Languages!A2,FALSE) -> Target of the template for supplier-8D
K5: =VLOOKUP(1007,Languages!A5:C455,Languages!A2,FALSE) -> One standard method to solve complaints from Brose in a structured way and thus to avoid repeated issues
K8: =VLOOKUP(1008,Languages!A5:C455,Languages!A2,FALSE) -> Mindset for successfull problem solving
K9: =VLOOKUP(1009,Languages!A5:C455,Languages!A2,FALSE) -> - real place - real parts - real data - compare to standards - rapid response / deadlines - logical thinking - responsibilities / ownership
K17: =VLOOKUP(1017,Languages!A5:C455,Languages!A2,FALSE) -> Please note
K18: =VLOOKUP(1019,Languages!A5:C455,Languages!A2,FALSE) -> Please make sure you're always using the latest version of our template. You may find this via https://www.brose.com/de-en/purchasing/handbooks-templates/
K22: =VLOOKUP(1018,Languages!A5:C455,Languages!A2,FALSE) -> The document "brose-8-d-problem-solving-scheme" is property of Brose. Major modifications are strictly prohibited without prior written consent. Exceptions are valid for adding new lines (e.g. for further measures), adding contents (e.g. pictures) or the modification of line heights if standard contents are not hidden by this.
K29: =VLOOKUP(1010,Languages!A5:C455,Languages!A2,FALSE) -> Use of different methods according to complexity of the problem
K30: =VLOOKUP(1011,Languages!A5:C455,Languages!A2,FALSE) -> - problems with known cause and countermeasure can be solved by using existing knowledge (does not apply for repeat failures) - problems with unknown cause and countermeasure need a structured approach and tools The minium requirement is the 8D-report - the usage of Is IsNot, Ishikawa and 5Why (tabs highlighted in green) is recommended.

Sheet 8D-Report
B1: =VLOOKUP(2000,Languages!$A$5:$C$1032,Languages!$A$2,FALSE) -> 8D - Report | CD1: ä | CF1: =VLOOKUP(2001,Languages!$A$5:$C$1032,Languages!$A$2,FALSE) -> Tools / Hints | CS1: ä
C5: D0 | R5: =VLOOKUP(2100,Languages!$A$5:$C$1032,Languages!$A$2,FALSE) -> Problem Statement
C8: =VLOOKUP(2101,Languages!$A$5:$C$1032,Languages!$A$2,FALSE) -> Is-Situation
C13: =VLOOKUP(2102,Languages!$A$5:$C$1032,Languages!$A$2,FALSE) -> Target-Situation
C20: D1 | R20: =VLOOKUP(2200,Languages!$A$5:$C$1032,Languages!$A$2,FALSE) -> Header / Problem solving team
C23: =VLOOKUP(2201,Languages!$A$5:$C$1032,Languages!$A$2,FALSE) -> Brose plant (Customer) | AP23: =VLOOKUP(2219,Languages!$A$5:$C$1032,Languages!$A$2,FALSE) -> Supplier [complete name and address]
C26: =VLOOKUP(2202,Languages!$A$5:$C$1032,Languages!$A$2,FALSE) -> End-customer (OEM/Tier1) | AP26: =VLOOKUP(2220,Languages!$A$5:$C$1032,Languages!$A$2,FALSE) -> Supplier number [Brose SAP Supplier number]
C29: =VLOOKUP(2203,Languages!$A$5:$C$1032,Languages!$A$2,FALSE) -> Contact person (Brose) | AP29: =VLOOKUP(2221,Languages!$A$5:$C$1032,Languages!$A$2,FALSE) -> Contact person (Supplier)
C32: =VLOOKUP(2204,Languages!$A$5:$C$1032,Languages!$A$2,FALSE) -> Contact information for contact person (Brose) [phone / E-Mail] | AP32: =VLOOKUP(2222,Languages!$A$5:$C$1032,Languages!$A$2,FALSE) -> Contact information for contact person (supplier) [phone / E-Mail]
C35: =VLOOKUP(2205,Languages!$A$5:$C$1032,Languages!$A$2,FALSE) -> Claim reference number / inspection report number (Brose) | AP35: =VLOOKUP(2223,Languages!$A$5:$C$1032,Languages!$A$2,FALSE) -> Problem solving team | AS35: =CONCATENATE(VLOOKUP(2224,Languages!$A$5:$C$1032,Languages!$A$2,FALSE),":") -> Leader:
C38: =VLOOKUP(2207,Languages!$A$5:$C$1032,Languages!$A$2,FALSE) -> Failure location [please tick a box] | V38: =VLOOKUP(2208,Languages!$A$5:$C$1032,Languages!$A$2,FALSE) -> Internal | AC38: =VLOOKUP(2209,Languages!$A$5:$C$1032,Languages!$A$2,FALSE) -> At Brose | AJ38: =VLOOKUP(2210,Languages!$A$5:$C$1032,Languages!$A$2,FALSE) -> At OEM/tier1 | AS38: =VLOOKUP(2225,Languages!$A$5:$C$1032,Languages!$A$2,FALSE) -> Further team members:
C41: =VLOOKUP(2211,Languages!$A$5:$C$1032,Languages!$A$2,FALSE) -> Repeat failure [please tick a box] | V41: =VLOOKUP(2212,Languages!$A$5:$C$1006,Languages!$A$2,FALSE) -> Yes | AC41: =VLOOKUP(2213,Languages!$A$5:$C$1006,Languages!$A$2,FALSE) -> No
R44: =VLOOKUP(2214,Languages!$A$5:$C$1032,Languages!$A$2,FALSE) -> If the answer is yes: further actions have to be defined in cooperation with Brose (e.g. additional 100%-control at the supplier or, for the second occurrence, an additional 100%-control at Brose by a third party)
C47: =VLOOKUP(2215,Languages!$A$5:$C$1032,Languages!$A$2,FALSE) -> Claim date
C50: =VLOOKUP(2206,Languages!$A$5:$C$1032,Languages!$A$2,FALSE) -> Date when next update of 8D-report will be provided | AP50: =VLOOKUP(2226,Languages!$A$5:$C$1032,Languages!$A$2,FALSE) -> Last revision [date of the last 8D-report update]
C53: =VLOOKUP(2216,Languages!$A$5:$C$1032,Languages!$A$2,FALSE) -> Brose part number [format XXXXXX-XXX] | AP53: =VLOOKUP(2227,Languages!$A$5:$C$1032,Languages!$A$2,FALSE) -> Supplier part number(s)
C56: =VLOOKUP(2217,Languages!$A$5:$C$1032,Languages!$A$2,FALSE) -> Rejected quantity | AP56: =VLOOKUP(2228,Languages!$A$5:$C$1032,Languages!$A$2,FALSE) -> Amount of defective parts
C59: =VLOOKUP(2218,Languages!$A$5:$C$1032,Languages!$A$2,FALSE) -> Remarks
C67: D2 | R67: =VLOOKUP(2300,Languages!$A$5:$C$1032,Languages!$A$2,FALSE) -> Problem description
C70: =VLOOKUP(2301,Languages!$A$5:$C$1032,Languages!$A$2,FALSE) -> Summary from Is/IsNot:
C72: =IF('Is IsNot'!E44="","",'Is IsNot'!E44)
C74: =VLOOKUP(2302,Languages!$A$5:$C$1032,Languages!$A$2,FALSE) -> Graphical representation of the problem [Please insert pictures, drawings or sketches]
C76: =VLOOKUP(2303,Languages!$A$5:$C$1032,Languages!$A$2,FALSE) -> OK - part | AP76: =VLOOKUP(2304,Languages!$A$5:$C$1032,Languages!$A$2,FALSE) -> NOK - part
C79: =VLOOKUP(2305,Languages!$A$5:$C$1032,Languages!$A$2,FALSE) -> What is the PROBLEM? Use the W-questions or IS / IS NOT, to understand the problem in its scope and impact. | CE79: =VLOOKUP(2002,Languages!$A$5:$C$1032,Languages!$A$2,FALSE) -> Tool
C82: =VLOOKUP(2306,Languages!$A$5:$C$1032,Languages!$A$2,FALSE) -> Which symptoms do we see on our parts?
C85: =VLOOKUP(2307,Languages!$A$5:$C$1032,Languages!$A$2,FALSE) -> Why is this a problem?
C88: =VLOOKUP(2308,Languages!$A$5:$C$1032,Languages!$A$2,FALSE) -> When did it happen?
C91: =VLOOKUP(2309,Languages!$A$5:$C$1032,Languages!$A$2,FALSE) -> When was/were the part(s) produced?
C94: =VLOOKUP(2310,Languages!$A$5:$C$1032,Languages!$A$2,FALSE) -> Who detected the problem (name)?
C97: =VLOOKUP(2311,Languages!$A$5:$C$1032,Languages!$A$2,FALSE) -> Where was the problem detected (failure place)?
C100: =VLOOKUP(2312,Languages!$A$5:$C$1032,Languages!$A$2,FALSE) -> How was the problem detected?
C103: =VLOOKUP(2313,Languages!$A$5:$C$1032,Languages!$A$2,FALSE) -> Which other Brose plants / parts are affected?
C106: =VLOOKUP(2315,Languages!$A$5:$C$1032,Languages!$A$2,FALSE) -> Are we capturing the defect when we re-introduce the product into the normal process?
C109: =VLOOKUP(2316,Languages!$A$5:$C$1032,Languages!$A$2,FALSE) -> Is the part safety critical? [failure clustering] | AP109: =VLOOKUP(2317,Languages!$A$5:$C$1032,Languages!$A$2,FALSE) -> A-failure = safety relevant B-failure = siginificant product/production effect C-failure = middle incident
C114: =VLOOKUP(2318,Languages!$A$5:$C$1032,Languages!$A$2,FALSE) -> Suspect quantity Brose [pce.] | AP114: =VLOOKUP(2322,Languages!$A$5:$C$1032,Languages!$A$2,FALSE) -> NOK - quantity Brose [pce.]
C116: =VLOOKUP(2319,Languages!$A$5:$C$1032,Languages!$A$2,FALSE) -> Suspect quantity transport [pce.] | AP116: =VLOOKUP(2323,Languages!$A$5:$C$1032,Languages!$A$2,FALSE) -> NOK - quantity transport [pce.]
C118: =VLOOKUP(2320,Languages!$A$5:$C$1032,Languages!$A$2,FALSE) -> Suspect quantity supplier [pce.] | AP118: =VLOOKUP(2324,Languages!$A$5:$C$1032,Languages!$A$2,FALSE) -> NOK - quantity supplier [pce.]
C120: =VLOOKUP(2321,Languages!$A$5:$C$1032,Languages!$A$2,FALSE) -> Suspect quantity OEM [pce.] | AP120: =VLOOKUP(2325,Languages!$A$5:$C$1032,Languages!$A$2,FALSE) -> NOK - quantity OEM [pce.]
C124: D3 | R124: =VLOOKUP(2400,Languages!$A$5:$C$1032,Languages!$A$2,FALSE) -> Containment actions | CE124: =VLOOKUP(2002,Languages!$A$5:$C$1032,Languages!$A$2,FALSE) -> Tool
C127: =VLOOKUP(2401,Languages!$A$5:$C$1032,Languages!$A$2,FALSE) -> Legend | Q127: =VLOOKUP(2402,Languages!$A$5:$C$1032,Languages!$A$2,FALSE) -> Open | AG127: =VLOOKUP(2403,Languages!$A$5:$C$1032,Languages!$A$2,FALSE) -> Verified / in progress | AQ127: X | AW127: =VLOOKUP(2404,Languages!$A$5:$C$1032,Languages!$A$2,FALSE) -> Realized | BG127: X | BI127: X | BM127: =VLOOKUP(2405,Languages!$A$5:$C$1032,Languages!$A$2,FALSE) -> Validated | BW127: X | BY127: X | CA127: X
...

Sheet Statistic
B1: =VLOOKUP(5001,Languages!A5:C455,Languages!A2,FALSE) -> Statistic
C3: =VLOOKUP(5002,Languages!A5:C455,Languages!A2,FALSE) -> Occurrence n.o.k.-parts - temporal course and validation of measures
C5: =VLOOKUP(5003,Languages!A5:C455,Languages!A2,FALSE) -> N.o.k.-parts
C6: =VLOOKUP(5004,Languages!A5:C455,Languages!A2,FALSE) -> Date
C7: =VLOOKUP(5005,Languages!A5:C455,Languages!A2,FALSE) -> Customer
C8: =VLOOKUP(5006,Languages!A5:C455,Languages!A2,FALSE) -> Internal
C9: …
C11: =VLOOKUP(5004,Languages!A5:C455,Languages!A2,FALSE) -> Date
C12: =VLOOKUP(5005,Languages!A5:C455,Languages!A2,FALSE) -> Customer
C13: =VLOOKUP(5006,Languages!A5:C455,Languages!A2,FALSE) -> Internal
C14: …
C16: =VLOOKUP(5004,Languages!A5:C455,Languages!A2,FALSE) -> Date
C17: =VLOOKUP(5005,Languages!A5:C455,Languages!A2,FALSE) -> Customer
C18: =VLOOKUP(5006,Languages!A5:C455,Languages!A2,FALSE) -> Internal
C19: …
C21: =VLOOKUP(5004,Languages!A5:C455,Languages!A2,FALSE) -> Date
C22: =VLOOKUP(5005,Languages!A5:C455,Languages!A2,FALSE) -> Customer
C23: =VLOOKUP(5006,Languages!A5:C455,Languages!A2,FALSE) -> Internal
C24: …
C26: =VLOOKUP(5004,Languages!A5:C455,Languages!A2,FALSE) -> Date
C27: =VLOOKUP(5005,Languages!A5:C455,Languages!A2,FALSE) -> Customer
C28: =VLOOKUP(5006,Languages!A5:C455,Languages!A2,FALSE) -> Internal
C29: …
C53: =VLOOKUP(5007,Languages!A5:C455,Languages!A2,FALSE) -> Sorting results (containment)
C55: =VLOOKUP(5008,Languages!A5:C455,Languages!A2,FALSE) -> Sorting results
E56: =VLOOKUP(5009,Languages!A5:C455,Languages!A2,FALSE) -> Sorted parts | F56: =VLOOKUP(5003,Languages!A5:C455,Languages!A2,FALSE) -> N.o.k.-parts | G56: =VLOOKUP(5011,Languages!A5:C455,Languages!A2,FALSE) -> Sorting date | I56: =VLOOKUP(5012,Languages!A5:C455,Languages!A2,FALSE) -> Identification o.k. - Parts | K56: =VLOOKUP(5013,Languages!A5:C455,Languages!A2,FALSE) -> Identification suspected Parts | M56: =VLOOKUP(5014,Languages!A5:C455,Languages!A2,FALSE) -> Production date of the sorted parts | O56: =VLOOKUP(5015,Languages!A5:C455,Languages!A2,FALSE) -> Conclusion of sorting
C57: =VLOOKUP(5016,Languages!A5:C455,Languages!A2,FALSE) -> Endcustomer - claiming plant
C58: =VLOOKUP(5017,Languages!A5:C455,Languages!A2,FALSE) -> Endcustomer - other plant(s)
C59: =VLOOKUP(5018,Languages!A5:C455,Languages!A2,FALSE) -> Endcustomer - others
C60: =VLOOKUP(5019,Languages!A5:C455,Languages!A2,FALSE) -> Brose - claiming plant
C61: =VLOOKUP(5020,Languages!A5:C455,Languages!A2,FALSE) -> Brose - other plant(s)
C62: =VLOOKUP(5021,Languages!A5:C455,Languages!A2,FALSE) -> Brose - others
C63: =VLOOKUP(5022,Languages!A5:C455,Languages!A2,FALSE) -> Supplier - production
C64: =VLOOKUP(5023,Languages!A5:C455,Languages!A2,FALSE) -> Supplier - storage
C65: =VLOOKUP(5024,Languages!A5:C455,Languages!A2,FALSE) -> Supplier - spare parts
C66: =VLOOKUP(5025,Languages!A5:C455,Languages!A2,FALSE) -> Logistics - parts on seafreight
C67: =VLOOKUP(5026,Languages!A5:C455,Languages!A2,FALSE) -> Logistics - parts on airfreight
C68: =VLOOKUP(5027,Languages!A5:C455,Languages!A2,FALSE) -> Logistics - external service provider
C69: =VLOOKUP(5028,Languages!A5:C455,Languages!A2,FALSE) -> Logistics - others
C70: …

Sheet Is IsNot
B1: =VLOOKUP(4001,Languages!A5:C455,Languages!A2,FALSE) -> Is / Is Not
D5: =VLOOKUP(4002,Languages!A5:C455,Languages!A2,FALSE) -> Problem Statement: | E5: =IF('8D-Report'!R8="","",'8D-Report'!R8) | H5: =VLOOKUP(4003,Languages!A5:C455,Languages!A2,FALSE) -> Noticeable observations
D6: =VLOOKUP(4004,Languages!A5:C455,Languages!A2,FALSE) -> Problem specification | E6: =VLOOKUP(4005,Languages!A5:C455,Languages!A2,FALSE) -> IS | F6: =VLOOKUP(4006,Languages!A5:C455,Languages!A2,FALSE) -> (logically could be, but) | G6: =VLOOKUP(4008,Languages!A5:C455,Languages!A2,FALSE) -> Missing Information | H6: =VLOOKUP(4009,Languages!A5:C455,Languages!A2,FALSE) -> Distinctions | I6: =VLOOKUP(4010,Languages!A5:C455,Languages!A2,FALSE) -> Changes
F7: =VLOOKUP(4007,Languages!A5:C455,Languages!A2,FALSE) -> IS NOT
C8: =VLOOKUP(4011,Languages!A5:C455,Languages!A2,FALSE) -> WHAT | D8: =VLOOKUP(4012,Languages!A5:C455,Languages!A2,FALSE) -> Object | E8: =VLOOKUP(4014,Languages!A5:C455,Languages!A2,FALSE) -> What specific object(s) has a deviation? | F8: =VLOOKUP(4016,Languages!A5:C455,Languages!A2,FALSE) -> What similar object(s) could reasonably have the deviation, but does not?
D10: =VLOOKUP(4013,Languages!A5:C455,Languages!A2,FALSE) -> Problem | E10: =VLOOKUP(4015,Languages!A5:C455,Languages!A2,FALSE) -> What is the specific deviation? | F10: =VLOOKUP(4017,Languages!A5:C455,Languages!A2,FALSE) -> What other deviations could reasonably be observed, but are not?
D12: …
C14: =VLOOKUP(4018,Languages!A5:C455,Languages!A2,FALSE) -> WHERE | D14: =VLOOKUP(4019,Languages!A5:C455,Languages!A2,FALSE) -> Observed on object | E14: =VLOOKUP(4021,Languages!A5:C455,Languages!A2,FALSE) -> Where is the deviation on the object? | F14: =VLOOKUP(4023,Languages!A5:C455,Languages!A2,FALSE) -> Where else could the deviation be located on the object, but is not?
D16: =VLOOKUP(4020,Languages!A5:C455,Languages!A2,FALSE) -> Geographically | E16: =VLOOKUP(4022,Languages!A5:C455,Languages!A2,FALSE) -> Where is the object when the deviation is observed? | F16: =VLOOKUP(4024,Languages!A5:C455,Languages!A2,FALSE) -> Where else could the object be when the deviation is observed, but is not?
D18: …
C20: =VLOOKUP(4025,Languages!A5:C455,Languages!A2,FALSE) -> WHEN | D20: =VLOOKUP(4026,Languages!A5:C455,Languages!A2,FALSE) -> First observed | E20: =VLOOKUP(4029,Languages!A5:C455,Languages!A2,FALSE) -> When was the deviation observed first? (date and time) | F20: =VLOOKUP(4032,Languages!A5:C455,Languages!A2,FALSE) -> When else could the deviation have been observed first, but was not?
D22: =VLOOKUP(4027,Languages!A5:C455,Languages!A2,FALSE) -> Elsewhere observed | E22: =VLOOKUP(4030,Languages!A5:C455,Languages!A2,FALSE) -> When since that time has the deviation been observed? Any pattern? | F22: =VLOOKUP(4033,Languages!A5:C455,Languages!A2,FALSE) -> When since that time could the deviation have been observed, but was not?
D24: =VLOOKUP(4028,Languages!A5:C455,Languages!A2,FALSE) -> When seen in the process (life cycle) | E24: =VLOOKUP(4031,Languages!A5:C455,Languages!A2,FALSE) -> When in the process history was the deviation first observed? | F24: =VLOOKUP(4034,Languages!A5:C455,Languages!A2,FALSE) -> When else, in the object's history, could the deviation have been observed first, but was not?
D26: …
C28: =VLOOKUP(4035,Languages!A5:C455,Languages!A2,FALSE) -> HOW | D28: =VLOOKUP(4036,Languages!A5:C455,Languages!A2,FALSE) -> How discovered | E28: =VLOOKUP(4037,Languages!A5:C455,Languages!A2,FALSE) -> How was the deviation noticed? | F28: =VLOOKUP(4038,Languages!A5:C455,Languages!A2,FALSE) -> How could it have been noticed, but was not?
D30: …
C32: =VLOOKUP(4039,Languages!A5:C455,Languages!A2,FALSE) -> EXTENT | D32: =VLOOKUP(4040,Languages!A5:C455,Languages!A2,FALSE) -> How many affected | E32: =VLOOKUP(4044,Languages!A5:C455,Languages!A2,FALSE) -> How many objects have this deviation? | F32: =VLOOKUP(4048,Languages!A5:C455,Languages!A2,FALSE) -> How many objects could have the deviation, but do not?
D34: =VLOOKUP(4041,Languages!A5:C455,Languages!A2,FALSE) -> Number of problems | E34: =VLOOKUP(4045,Languages!A5:C455,Languages!A2,FALSE) -> How many deviations are on each object? | F34: =VLOOKUP(4049,Languages!A5:C455,Languages!A2,FALSE) -> How many deviations could there be on each object, but are not?
D36: =VLOOKUP(4042,Languages!A5:C455,Languages!A2,FALSE) -> Extent | E36: =VLOOKUP(4046,Languages!A5:C455,Languages!A2,FALSE) -> What is the size of a single deviation? | F36: =VLOOKUP(4050,Languages!A5:C455,Languages!A2,FALSE) -> What other size could the deviation be, but is not?
D38: =VLOOKUP(4043,Languages!A5:C455,Languages!A2,FALSE) -> Tendency | E38: =VLOOKUP(4047,Languages!A5:C455,Languages!A2,FALSE) -> What is the trend? (…in the object?) (…in the number of occurrences of the deviation? (…in the size of the deviation?) | F38: =VLOOKUP(4051,Languages!A5:C455,Languages!A2,FALSE) -> What could be the trend, but is not? (…in the number of occurrences of the deviation? (…in the size of the deviation?)
D40: …
C43: =VLOOKUP(4052,Languages!A5:C455,Languages!A2,FALSE) -> IS / IS NOT Summary
C44: =VLOOKUP(4053,Languages!A5:C455,Languages!A2,FALSE) -> Summary from Is/IsNot:

Sheet Ishikawa
B1: =VLOOKUP(6001,Languages!A5:C410,Languages!A2,FALSE) -> Ishikawa-Diagram
C3: =VLOOKUP(6002,Languages!A5:C410,Languages!A2,FALSE) -> Why occurred (O): | AT3: =VLOOKUP(6003,Languages!A5:C410,Languages!A2,FALSE) -> Why not detected (N):
AG21: =VLOOKUP(6015,Languages!A5:C410,Languages!A2,FALSE) -> Problem Statement:
AG23: =IF('8D-Report'!R8="","",'8D-Report'!R8)
D54: =VLOOKUP(6010,Languages!A5:C410,Languages!A2,FALSE) -> Text boxes | BF54: =VLOOKUP(6011,Languages!A5:C410,Languages!A2,FALSE) -> Evaluation modules
BP57: =VLOOKUP(6012,Languages!A5:C410,Languages!A2,FALSE) -> Probable cause
BP60: =VLOOKUP(6013,Languages!A5:C410,Languages!A2,FALSE) -> Possible cause
BP63: =VLOOKUP(6014,Languages!A5:C410,Languages!A2,FALSE) -> Not the cause

Sheet C&E
B1: =VLOOKUP(9001,Languages!A5:C455,Languages!A2,FALSE) -> Cause and effect matrix
F5: =CONCATENATE('Is IsNot'!C8," - ",'Is IsNot'!D8) -> WHAT - Object | H5: =CONCATENATE('Is IsNot'!C8," - ",'Is IsNot'!D10) -> WHAT - Problem | J5: =CONCATENATE('Is IsNot'!C8," - ",'Is IsNot'!D12) -> WHAT - … | L5: =CONCATENATE('Is IsNot'!C14," - ",'Is IsNot'!D14) -> WHERE - Observed on object | N5: =CONCATENATE('Is IsNot'!C14," - ",'Is IsNot'!D16) -> WHERE - Geographically | P5: =CONCATENATE('Is IsNot'!C14," - ",'Is IsNot'!D18) -> WHERE - … | R5: =CONCATENATE('Is IsNot'!C20," - ",'Is IsNot'!D20) -> WHEN - First observed | T5: =CONCATENATE('Is IsNot'!C20," - ",'Is IsNot'!D22) -> WHEN - Elsewhere observed | V5: =CONCATENATE('Is IsNot'!C20," - ",'Is IsNot'!D24) -> WHEN - When seen in the process (life cycle) | X5: =CONCATENATE('Is IsNot'!C20," - ",'Is IsNot'!D26) -> WHEN - … | Z5: =CONCATENATE('Is IsNot'!C28," - ",'Is IsNot'!D28) -> HOW - How discovered | AB5: =CONCATENATE('Is IsNot'!C28," - ",'Is IsNot'!D30) -> HOW - … | AD5: =CONCATENATE('Is IsNot'!C32," - ",'Is IsNot'!D32) -> EXTENT - How many affected | AF5: =CONCATENATE('Is IsNot'!C32," - ",'Is IsNot'!D34) -> EXTENT - Number of problems | AH5: =CONCATENATE('Is IsNot'!C32," - ",'Is IsNot'!D36) -> EXTENT - Extent | AJ5: =CONCATENATE('Is IsNot'!C32," - ",'Is IsNot'!D38) -> EXTENT - Tendency | AL5: =CONCATENATE('Is IsNot'!C32," - ",'Is IsNot'!D40) -> EXTENT - …
F8: =VLOOKUP(4005,Languages!$A$5:$C$455,Languages!$A$2,FALSE) -> IS | G8: =VLOOKUP(4007,Languages!$A$5:$C$455,Languages!$A$2,FALSE) -> IS NOT | H8: =VLOOKUP(4005,Languages!$A$5:$C$455,Languages!$A$2,FALSE) -> IS | I8: =VLOOKUP(4007,Languages!$A$5:$C$455,Languages!$A$2,FALSE) -> IS NOT | J8: =VLOOKUP(4005,Languages!$A$5:$C$455,Languages!$A$2,FALSE) -> IS | K8: =VLOOKUP(4007,Languages!$A$5:$C$455,Languages!$A$2,FALSE) -> IS NOT | L8: =VLOOKUP(4005,Languages!$A$5:$C$455,Languages!$A$2,FALSE) -> IS | M8: =VLOOKUP(4007,Languages!$A$5:$C$455,Languages!$A$2,FALSE) -> IS NOT | N8: =VLOOKUP(4005,Languages!$A$5:$C$455,Languages!$A$2,FALSE) -> IS | O8: =VLOOKUP(4007,Languages!$A$5:$C$455,Languages!$A$2,FALSE) -> IS NOT | P8: =VLOOKUP(4005,Languages!$A$5:$C$455,Languages!$A$2,FALSE) -> IS | Q8: =VLOOKUP(4007,Languages!$A$5:$C$455,Languages!$A$2,FALSE) -> IS NOT | R8: =VLOOKUP(4005,Languages!$A$5:$C$455,Languages!$A$2,FALSE) -> IS | S8: =VLOOKUP(4007,Languages!$A$5:$C$455,Languages!$A$2,FALSE) -> IS NOT | T8: =VLOOKUP(4005,Languages!$A$5:$C$455,Languages!$A$2,FALSE) -> IS | U8: =VLOOKUP(4007,Languages!$A$5:$C$455,Languages!$A$2,FALSE) -> IS NOT | V8: =VLOOKUP(4005,Languages!$A$5:$C$455,Languages!$A$2,FALSE) -> IS | W8: =VLOOKUP(4007,Languages!$A$5:$C$455,Languages!$A$2,FALSE) -> IS NOT | X8: =VLOOKUP(4005,Languages!$A$5:$C$455,Languages!$A$2,FALSE) -> IS | Y8: =VLOOKUP(4007,Languages!$A$5:$C$455,Languages!$A$2,FALSE) -> IS NOT | Z8: =VLOOKUP(4005,Languages!$A$5:$C$455,Languages!$A$2,FALSE) -> IS | AA8: =VLOOKUP(4007,Languages!$A$5:$C$455,Languages!$A$2,FALSE) -> IS NOT | AB8: =VLOOKUP(4005,Languages!$A$5:$C$455,Languages!$A$2,FALSE) -> IS | AC8: =VLOOKUP(4007,Languages!$A$5:$C$455,Languages!$A$2,FALSE) -> IS NOT | AD8: =VLOOKUP(4005,Languages!$A$5:$C$455,Languages!$A$2,FALSE) -> IS | AE8: =VLOOKUP(4007,Languages!$A$5:$C$455,Languages!$A$2,FALSE) -> IS NOT | AF8: =VLOOKUP(4005,Languages!$A$5:$C$455,Languages!$A$2,FALSE) -> IS | AG8: =VLOOKUP(4007,Languages!$A$5:$C$455,Languages!$A$2,FALSE) -> IS NOT | AH8: =VLOOKUP(4005,Languages!$A$5:$C$455,Languages!$A$2,FALSE) -> IS | AI8: =VLOOKUP(4007,Languages!$A$5:$C$455,Languages!$A$2,FALSE) -> IS NOT | AJ8: =VLOOKUP(4005,Languages!$A$5:$C$455,Languages!$A$2,FALSE) -> IS | AK8: =VLOOKUP(4007,Languages!$A$5:$C$455,Languages!$A$2,FALSE) -> IS NOT | AL8: =VLOOKUP(4005,Languages!$A$5:$C$455,Languages!$A$2,FALSE) -> IS | AM8: =VLOOKUP(4007,Languages!$A$5:$C$455,Languages!$A$2,FALSE) -> IS NOT
F10: =IF('Is IsNot'!$E9="","",'Is IsNot'!$E9) | G10: =IF('Is IsNot'!$F9="","",'Is IsNot'!$F9) | H10: =IF('Is IsNot'!$E11="","",'Is IsNot'!$E11) | I10: =IF('Is IsNot'!F11="","",'Is IsNot'!F11) | J10: =IF('Is IsNot'!E13="","",'Is IsNot'!E13) | K10: =IF('Is IsNot'!F13="","",'Is IsNot'!F13) | L10: =IF('Is IsNot'!E15="","",'Is IsNot'!E15) | M10: =IF('Is IsNot'!F15="","",'Is IsNot'!F15) | N10: =IF('Is IsNot'!E17="","",'Is IsNot'!E17) | O10: =IF('Is IsNot'!F17="","",'Is IsNot'!F17) | P10: =IF('Is IsNot'!E19="","",'Is IsNot'!E19) | Q10: =IF('Is IsNot'!F19="","",'Is IsNot'!F19) | R10: =IF('Is IsNot'!E21="","",'Is IsNot'!E21) | S10: =IF('Is IsNot'!F21="","",'Is IsNot'!F21) | T10: =IF('Is IsNot'!E23="","",'Is IsNot'!E23) | U10: =IF('Is IsNot'!F23="","",'Is IsNot'!F23) | V10: =IF('Is IsNot'!E25="","",'Is IsNot'!E25) | W10: =IF('Is IsNot'!F25="","",'Is IsNot'!F25) | X10: =IF('Is IsNot'!E27="","",'Is IsNot'!E27) | Y10: =IF('Is IsNot'!F27="","",'Is IsNot'!F27) | Z10: =IF('Is IsNot'!E29="","",'Is IsNot'!E29) | AA10: =IF('Is IsNot'!F29="","",'Is IsNot'!F29) | AB10: =IF('Is IsNot'!E31="","",'Is IsNot'!E31) | AC10: =IF('Is IsNot'!F31="","",'Is IsNot'!F31) | AD10: =IF('Is IsNot'!E33="","",'Is IsNot'!E33) | AE10: =IF('Is IsNot'!F33="","",'Is IsNot'!F33) | AF10: =IF('Is IsNot'!E35="","",'Is IsNot'!E35) | AG10: =IF('Is IsNot'!F35="","",'Is IsNot'!F35) | AH10: =IF('Is IsNot'!E37="","",'Is IsNot'!E37) | AI10: =IF('Is IsNot'!F37="","",'Is IsNot'!F37) | AJ10: =IF('Is IsNot'!E39="","",'Is IsNot'!E39) | AK10: =IF('Is IsNot'!F39="","",'Is IsNot'!F39) | AL10: =IF('Is IsNot'!E41="","",'Is IsNot'!E41) | AM10: =IF('Is IsNot'!F41="","",'Is IsNot'!F41)
D17: =VLOOKUP(9002,Languages!A5:C455,Languages!A2,FALSE) -> Potential causes from the Ishikawa-diagram | AN17: =VLOOKUP(9003,Languages!A5:C455,Languages!A2,FALSE) -> Result | AO17: =VLOOKUP(9004,Languages!A5:C455,Languages!A2,FALSE) -> Remarks
C20: =VLOOKUP(8002,Languages!A5:C410,Languages!A2,FALSE) -> Occurence | AN20: =IF(SUM(F20:AM20)=0,"",SUM(F20:AM20))
AN21: =IF(SUM(F21:AM21)=0,"",SUM(F21:AM21))
AN22: =IF(SUM(F22:AM22)=0,"",SUM(F22:AM22))
AN23: =IF(SUM(F23:AM23)=0,"",SUM(F23:AM23))
AN24: =IF(SUM(F24:AM24)=0,"",SUM(F24:AM24))
AN25: =IF(SUM(F25:AM25)=0,"",SUM(F25:AM25))
AN26: =IF(SUM(F26:AM26)=0,"",SUM(F26:AM26))
AN27: =IF(SUM(F27:AM27)=0,"",SUM(F27:AM27))
AN28: =IF(SUM(F28:AM28)=0,"",SUM(F28:AM28))
AN29: =IF(SUM(F29:AM29)=0,"",SUM(F29:AM29))
AN30: =IF(SUM(F30:AM30)=0,"",SUM(F30:AM30))
AN31: =IF(SUM(F31:AM31)=0,"",SUM(F31:AM31))
C32: =VLOOKUP(8003,Languages!A5:C410,Languages!A2,FALSE) -> Non-detection | AN32: =IF(SUM(F32:AM32)=0,"",SUM(F32:AM32))
AN33: =IF(SUM(F33:AM33)=0,"",SUM(F33:AM33))
AN34: =IF(SUM(F34:AM34)=0,"",SUM(F34:AM34))
AN35: =IF(SUM(F35:AM35)=0,"",SUM(F35:AM35))
AN36: =IF(SUM(F36:AM36)=0,"",SUM(F36:AM36))
AN37: =IF(SUM(F37:AM37)=0,"",SUM(F37:AM37))
AN38: =IF(SUM(F38:AM38)=0,"",SUM(F38:AM38))
AN39: =IF(SUM(F39:AM39)=0,"",SUM(F39:AM39))
AN40: =IF(SUM(F40:AM40)=0,"",SUM(F40:AM40))
AN41: =IF(SUM(F41:AM41)=0,"",SUM(F41:AM41))
AN42: =IF(SUM(F42:AM42)=0,"",SUM(F42:AM42))
AN43: =IF(SUM(F43:AM43)=0,"",SUM(F43:AM43))

Sheet Verify
B1: =VLOOKUP(7001,Languages!A5:C410,Languages!A2,FALSE) -> Verification of the influencing factors
AZ4: =VLOOKUP(7009,Languages!A5:C410,Languages!A2,FALSE) -> Deviation to Specification / Feature | BE4: =VLOOKUP(7010,Languages!A5:C410,Languages!A2,FALSE) -> Feature / specification correct | BJ4: =VLOOKUP(7011,Languages!A5:C410,Languages!A2,FALSE) -> Direct reference to the problem?
C6: =VLOOKUP(8002,Languages!A5:C410,Languages!A2,FALSE) -> Occurence
C8: =VLOOKUP(7004,Languages!A5:C410,Languages!A2,FALSE) -> Systematic consideration regarding the 5Ms | M8: =VLOOKUP(7005,Languages!A5:C410,Languages!A2,FALSE) -> Influencing factors | AB8: =VLOOKUP(7006,Languages!A5:C410,Languages!A2,FALSE) -> Specification / Feature | AJ8: =VLOOKUP(7007,Languages!A5:C410,Languages!A2,FALSE) -> O.k.-part | AR8: =VLOOKUP(7008,Languages!A5:C410,Languages!A2,FALSE) -> N.o.k.-part | BO8: =VLOOKUP(7012,Languages!A5:C410,Languages!A2,FALSE) -> Prioritization or comment on the influence factor
C54: =VLOOKUP(8003,Languages!A5:C410,Languages!A2,FALSE) -> Non-detection
C56: =VLOOKUP(7014,Languages!A5:C410,Languages!A2,FALSE) -> It is to check whether the fault feature is covered by a test. If "Yes": Continue processing with the influencing factors test for non-detection. If "No": Continue processing with the 5 Whys (Why is this error feature not covered though a test?)
BE64: =VLOOKUP(7019,Languages!A5:C410,Languages!A2,FALSE) -> Is this specification sufficient? | BJ64: =VLOOKUP(7020,Languages!A5:C410,Languages!A2,FALSE) -> Has this test been performed according to specification?
C68: =VLOOKUP(7016,Languages!A5:C410,Languages!A2,FALSE) -> Where is the inspection characteristic covered? | Q68: =VLOOKUP(7017,Languages!A5:C410,Languages!A2,FALSE) -> Inspection characteristic | AJ68: =VLOOKUP(7018,Languages!A5:C410,Languages!A2,FALSE) -> How is the testing defined (desired situation)? | BO68: =VLOOKUP(7021,Languages!A5:C410,Languages!A2,FALSE) -> Comment

Sheet 5Why
B1: =VLOOKUP(7015,Languages!A5:C410,Languages!A2,FALSE) -> 5 Why
B3: =VLOOKUP(8001,Languages!A5:C410,Languages!A2,FALSE) -> Problem / Defect:
B13: =VLOOKUP(8002,Languages!A5:C410,Languages!A2,FALSE) -> Occurence | E13: =VLOOKUP(8008,Languages!A5:C410,Languages!A2,FALSE) -> Use this path to investigate the specific nonconformance caused by the manufacturing process
E18: =Buttons!$B$83 -> Why? | AD18: =Buttons!$B$83 -> Why? | BC18: =Buttons!$B$83 -> Why?
E23: =Buttons!$B$83 -> Why? | AD23: =Buttons!$B$83 -> Why? | BC23: =Buttons!$B$83 -> Why?
E28: =Buttons!$B$83 -> Why? | AD28: =Buttons!$B$83 -> Why? | BC28: =Buttons!$B$83 -> Why?
E33: =Buttons!$B$83 -> Why? | AD33: =Buttons!$B$83 -> Why? | BC33: =Buttons!$B$83 -> Why?
E38: =Buttons!$B$83 -> Why? | AD38: =Buttons!$B$83 -> Why? | BC38: =Buttons!$B$83 -> Why?
E43: =Buttons!$B$83 -> Why? | AD43: =Buttons!$B$83 -> Why? | BC43: =Buttons!$B$83 -> Why?
E48: =Buttons!$B$83 -> Why? | AD48: =Buttons!$B$83 -> Why? | BC48: =Buttons!$B$83 -> Why?
B56: =VLOOKUP(8003,Languages!A5:C410,Languages!A2,FALSE) -> Non-detection | E56: =VLOOKUP(8009,Languages!A5:C410,Languages!A2,FALSE) -> Use this path to investigate why the problem was not detected
E61: =Buttons!$B$83 -> Why? | AD61: =Buttons!$B$83 -> Why? | BC61: =Buttons!$B$83 -> Why?
E66: =Buttons!$B$83 -> Why? | AD66: =Buttons!$B$83 -> Why? | BC66: =Buttons!$B$83 -> Why?
E71: =Buttons!$B$83 -> Why? | AD71: =Buttons!$B$83 -> Why? | BC71: =Buttons!$B$83 -> Why?
E76: =Buttons!$B$83 -> Why? | AD76: =Buttons!$B$83 -> Why? | BC76: =Buttons!$B$83 -> Why?
E81: =Buttons!$B$83 -> Why? | AD81: =Buttons!$B$83 -> Why? | BC81: =Buttons!$B$83 -> Why?
E86: =Buttons!$B$83 -> Why? | AD86: =Buttons!$B$83 -> Why? | BC86: =Buttons!$B$83 -> Why?
E91: =Buttons!$B$83 -> Why? | AD91: =Buttons!$B$83 -> Why? | BC91: =Buttons!$B$83 -> Why?
B99: =VLOOKUP(8004,Languages!A5:C410,Languages!A2,FALSE) -> Systemic | E99: =VLOOKUP(8010,Languages!A5:C410,Languages!A2,FALSE) -> Use this path to investigate what process/system is not robust
E104: =Buttons!$B$83 -> Why? | AD104: =Buttons!$B$83 -> Why? | BC104: =Buttons!$B$83 -> Why?
E109: =Buttons!$B$83 -> Why? | AD109: =Buttons!$B$83 -> Why? | BC109: =Buttons!$B$83 -> Why?
E114: =Buttons!$B$83 -> Why? | AD114: =Buttons!$B$83 -> Why? | BC114: =Buttons!$B$83 -> Why?
E119: =Buttons!$B$83 -> Why? | AD119: =Buttons!$B$83 -> Why? | BC119: =Buttons!$B$83 -> Why?
E124: =Buttons!$B$83 -> Why? | AD124: =Buttons!$B$83 -> Why? | BC124: =Buttons!$B$83 -> Why?
E129: =Buttons!$B$83 -> Why? | AD129: =Buttons!$B$83 -> Why? | BC129: =Buttons!$B$83 -> Why?
E134: =Buttons!$B$83 -> Why? | AD134: =Buttons!$B$83 -> Why? | BC134: =Buttons!$B$83 -> Why?

Sheet Read-Across
B1: =VLOOKUP(10000,Languages!$A$5:$C$1032,Languages!$A$2,FALSE) -> Read-Across
C5: =VLOOKUP(10001,Languages!$A$5:$C$1032,Languages!$A$2,FALSE) -> Legend | AE5: =VLOOKUP(10011,Languages!$A$5:$C$1032,Languages!$A$2,FALSE) -> New Projects | AK5: =VLOOKUP(10012,Languages!$A$5:$C$1032,Languages!$A$2,FALSE) -> Production lines / projects | BK5: =VLOOKUP(10013,Languages!$A$5:$C$1032,Languages!$A$2,FALSE) -> Other plants | BQ5: =VLOOKUP(10014,Languages!$A$5:$C$1032,Languages!$A$2,FALSE) -> Sub-supplier(s) | BW5: =VLOOKUP(10015,Languages!$A$5:$C$1032,Languages!$A$2,FALSE) -> Others
C7: O | F7: =VLOOKUP(10002,Languages!$A$5:$C$1032,Languages!$A$2,FALSE) -> Original location
C8: X | F8: =VLOOKUP(10003,Languages!$A$5:$C$1032,Languages!$A$2,FALSE) -> Location with similar process / risk
C9: NA | F9: =VLOOKUP(10004,Languages!$A$5:$C$1032,Languages!$A$2,FALSE) -> Not Applicable
C10: P | F10: =VLOOKUP(10005,Languages!$A$5:$C$1032,Languages!$A$2,FALSE) -> Pass Through
C12: BLUE | F12: =VLOOKUP(10006,Languages!$A$5:$C$1032,Languages!$A$2,FALSE) -> Completion verified
C13: GREEN | F13: =VLOOKUP(10007,Languages!$A$5:$C$1032,Languages!$A$2,FALSE) -> Completed & involved parties informed
C14: RED | F14: =VLOOKUP(10008,Languages!$A$5:$C$1032,Languages!$A$2,FALSE) -> Not Completed
C15: NA | F15: =VLOOKUP(10009,Languages!$A$5:$C$1032,Languages!$A$2,FALSE) -> Not Applicable
C18: =VLOOKUP(10002,Languages!$A$5:$C$1032,Languages!$A$2,FALSE) -> Original location
C21: =VLOOKUP(10016,Languages!$A$5:$C$1032,Languages!$A$2,FALSE) -> Containment actions | F21: =VLOOKUP(10017,Languages!$A$5:$C$1032,Languages!$A$2,FALSE) -> Containment action(s) supplier (production, stock, spare parts warehouse, transport, ...)
F32: =VLOOKUP(10018,Languages!$A$5:$C$1032,Languages!$A$2,FALSE) -> Containment action(s) Brose/OEM/Tier (production, stock, spare parts warehouse, transport, ...)
F43: =VLOOKUP(10019,Languages!$A$5:$C$1032,Languages!$A$2,FALSE) -> Identification o.k. delivery (single part, assembly, handling unit, ...)
C49: =VLOOKUP(10020,Languages!$A$5:$C$1032,Languages!$A$2,FALSE) -> Corrective Actions | F49: =VLOOKUP(10021,Languages!$A$5:$C$1032,Languages!$A$2,FALSE) -> Actions against failure occurrence or failure cause respectively (product / process, technical solutions,…)
F60: =VLOOKUP(10022,Languages!$A$5:$C$1032,Languages!$A$2,FALSE) -> Actions against non detection (manual / automatic controls,…)
C72: =VLOOKUP(10023,Languages!$A$5:$C$1032,Languages!$A$2,FALSE) -> Actions against reccurence

Sheet Action plan
B1: =VLOOKUP(12001,Languages!A5:C550,Languages!A2,FALSE) -> Action plan status list
F4: =VLOOKUP(12002,Languages!A5:C550,Languages!A2,FALSE) -> Implementation overview
C5: =VLOOKUP(12003,Languages!A5:C550,Languages!A2,FALSE) -> Project/Topic
C6: =VLOOKUP(12004,Languages!A5:C550,Languages!A2,FALSE) -> Person Responsible
C7: =VLOOKUP(12005,Languages!A5:C550,Languages!A2,FALSE) -> Status
C8: =VLOOKUP(12006,Languages!A5:C550,Languages!A2,FALSE) -> Today | D8: =VLOOKUP(12011,Languages!A5:C550,Languages!A2,FALSE) -> (DD.MM.YY) | E8: =TODAY() -> 44313
C9: =VLOOKUP(12007,Languages!A5:C550,Languages!A2,FALSE) -> green | D9: =VLOOKUP(12012,Languages!A5:C550,Languages!A2,FALSE) -> completed | E9: =COUNTIF(H16:H10002,D9) -> 0
C10: =VLOOKUP(12008,Languages!A5:C550,Languages!A2,FALSE) -> white | D10: =VLOOKUP(12013,Languages!A5:C550,Languages!A2,FALSE) -> in progress | E10: =COUNTIF(H16:H10002,D10) -> 0
C11: =VLOOKUP(12009,Languages!A5:C550,Languages!A2,FALSE) -> yellow | D11: =VLOOKUP(12014,Languages!A5:C550,Languages!A2,FALSE) -> behind schedule | E11: =COUNTIF(H16:H10002,D11) -> 0
C12: =VLOOKUP(12010,Languages!A5:C550,Languages!A2,FALSE) -> red | D12: =VLOOKUP(12015,Languages!A5:C550,Languages!A2,FALSE) -> critical | E12: =COUNTIF(H16:H10002,D12) -> 0
C15: =VLOOKUP(12016,Languages!$A$5:$C$550,Languages!$A$2,FALSE) -> No. | D15: =VLOOKUP(12017,Languages!A5:C550,Languages!A2,FALSE) -> Work package | E15: =VLOOKUP(12018,Languages!A5:C550,Languages!A2,FALSE) -> Task / point / issue | F15: =VLOOKUP(12019,Languages!A5:C550,Languages!A2,FALSE) -> Person responsible | G15: =VLOOKUP(12020,Languages!A5:C550,Languages!A2,FALSE) -> Deadline (DD.MM.YY) | H15: =VLOOKUP(12021,Languages!A5:C550,Languages!A2,FALSE) -> Status | I15: =VLOOKUP(12022,Languages!A5:C550,Languages!A2,FALSE) -> Comments
C16: 1
C17: 2
C18: 3
C19: 4
C20: 5
C21: 6
C22: 7
C23: 8
C24: 9
C25: 10
C26: 11
C27: 12
... C75: 60

Sheet Buttons
A1: PMP Start
B2: =VLOOKUP(1016,Languages!$A$5:$C$1006,Languages!A2,FALSE) -> To 8D - Report
A4: 8D-Report
A5: D1 / D8 | B5: X
A8: D2 | B8: A
B9: B
B10: C
A13: D4 | B13: =VLOOKUP(2514,Languages!$A$5:$C$1032,Languages!$A$2,FALSE) -> NO
B14: =VLOOKUP(2515,Languages!$A$5:$C$1032,Languages!$A$2,FALSE) -> YES
A16: D8 | B16: =VLOOKUP(2812,Languages!$A$5:$C$1032,Languages!$A$2,FALSE) -> Acceptance not yet clarified
B17: =VLOOKUP(2813,Languages!$A$5:$C$1032,Languages!$A$2,FALSE) -> Accepted by supplier
B18: =VLOOKUP(2814,Languages!$A$5:$C$1032,Languages!$A$2,FALSE) -> Declined by supplier
B21: =VLOOKUP(2003,Languages!$A$5:$C$1006,Languages!A2,FALSE) -> Is/Is Not
B22: =VLOOKUP(2004,Languages!$A$5:$C$1006,Languages!A2,FALSE) -> Failure development
B23: =VLOOKUP(2005,Languages!$A$5:$C$1006,Languages!A2,FALSE) -> Sorting results
B24: =VLOOKUP(2006,Languages!$A$5:$C$1006,Languages!A2,FALSE) -> Read-Across
B25: =VLOOKUP(2007,Languages!$A$5:$C$1006,Languages!A2,FALSE) -> Ishikawa-Diagram
B26: =VLOOKUP(2008,Languages!$A$5:$C$1006,Languages!A2,FALSE) -> Cause & Effect Matrix
B27: =VLOOKUP(2009,Languages!$A$5:$C$1006,Languages!A2,FALSE) -> Verify influences
B28: =VLOOKUP(2010,Languages!$A$5:$C$1006,Languages!$A$2,FALSE) -> 5x Why
B29: =VLOOKUP(2011,Languages!$A$5:$C$1006,Languages!$A$2,FALSE) -> Validation
B30: =VLOOKUP(2012,Languages!$A$5:$C$1006,Languages!$A$2,FALSE) -> Evaluation
B31: =VLOOKUP(2013,Languages!$A$5:$C$1006,Languages!$A$2,FALSE) -> Failure Visualisation
B32: =VLOOKUP(2014,Languages!$A$5:$C$1006,Languages!$A$2,FALSE) -> Internal action plan status list
A34: Statistic
B35: =CONCATENATE("'",VLOOKUP(5029,Languages!$A$5:$C$1032,Languages!$A$2,FALSE),"'") -> 'Clean point'
B36: =VLOOKUP(5030,Languages!$A$5:$C$1006,Languages!$A$2,FALSE) -> Containments implemented
B37: =VLOOKUP(5031,Languages!$A$5:$C$1006,Languages!$A$2,FALSE) -> Corrective actions implemented
A39: Ishikawa
B40: =VLOOKUP(6004,Languages!$A$5:$C$1006,Languages!A2,FALSE) -> Man
B41: =VLOOKUP(6005,Languages!$A$5:$C$1006,Languages!A2,FALSE) -> Machine
B42: =VLOOKUP(6006,Languages!$A$5:$C$1006,Languages!A2,FALSE) -> Mother Nature
B43: =VLOOKUP(6007,Languages!$A$5:$C$1006,Languages!A2,FALSE) -> Method
B44: =VLOOKUP(6008,Languages!$A$5:$C$1006,Languages!A2,FALSE) -> Material
A46: C&E
B47: 1
B48: 4
B49: 7
B50: 10
A53: Verify
...

Sheet Languages
A2: =IF('PMP Start'!E4="Deutsch",2,IF('PMP Start'!E4="English",3,IF('PMP Start'!E4="Espanol",4,IF('PMP Start'!E4="Português",5,IF('PMP Start'!E4="Français",6,IF('PMP Start'!E4="Italiano",7,IF('PMP Start'!E4="中国",8,IF('PMP Start'!E4="한국어",9,IF('PMP Start'!E4="Svenska",10,IF('PMP Start'!E4="русский",11,IF('PMP Start'!E4="Slovenský",12,IF('PMP Start'!E4="Český",13,0)))))))))))) -> 3 | B2: ='PMP Start'!E4 -> English
A4: Pos. | B4: deutsch [2] | C4: englisch [3]
A5: 1001 | B5: Sprache: | C5: Language:
A6: 1002 | B6: Vorlage zum Lieferanten-8D | C6: Template for supplier-8D
A7: 1003 | B7: Zurück | C7: Back
A8: 1004
A9: 1005 | B9: Hilfe | C9: Help
A10: 1006 | B10: Ziel der Vorlage zum Lieferanten-8D | C10: Target of the template for supplier-8D
A11: 1007 | B11: Eine Standardmethode um Reklamationen von Brose in einer strukturierten Art und Weise zu lösen und dadurch Wiederholfehler zu vermeiden. | C11: One standard method to solve complaints from Brose in a structured way and thus to avoid repeated issues
A12: 1008 | B12: Mentalität für erfolgreiche Problemlösung | C12: Mindset for successfull problem solving
A13: 1009 | B13: - echter Ort - echte Teile - echte Daten - Vergleich mit Standards - schnelle Reaktion / Deadlines - Logisches Denken - Verantwortlichkeiten / Eigentümer | C13: - real place - real parts - real data - compare to standards - rapid response / deadlines - logical thinking - responsibilities / ownership
A14: 1010 | B14: Verwendung verschiedener Methoden entsprechend der Komplexität des Problems | C14: Use of different methods according to complexity of the problem
A15: 1011 | B15: - Probleme mit bekannter Ursache und Maßnahmen können mit bestehendem Wissen gelöst werden (gilt nicht bei Wiederholfehlern). - Probleme mit unbekannter Ursache und Maßnahmen benötigen strukturierte Ansätze und Tools Mindestanforderung ist der 8D-Report - die Verwendung von Is IsNot, Ishikawa und 5Why (grün hinterlegte Reiter) wird empfohlen. | C15: - problems with known cause and countermeasure can be solved by using existing knowledge (does not apply for repeat failures) - problems with unknown cause and countermeasure need a structured approach and tools The minium requirement is the 8D-report - the usage of Is IsNot, Ishikawa and 5Why (tabs highlighted in green) is recommended.
A16: 1012 | B16: Problemlöseschablone (PLS) | C16: Problem Solving Sheme (PSS)
A17: 1013 | B17: Standard um Probleme im Fertigungsbereich zu lösen - Verwendung von Ausdrucken (DIN A0) - handschriftliche Dokumentation | C17: Standard for problem solving at shopfloor … - use printouts - handwritten documentation
A18: 1016 | B18: Zum 8D - Bericht | C18: To 8D - Report
A19: 1017 | B19: Bitte beachten | C19: Please note
A20: 1018 | B20: Das Dokument "brose-8-d-problem-solving-scheme" ist Eigentum von Brose. Wesentliche Änderungen sind ohne unsere vorherige schriftliche Genehmigung nicht gestattet. Ausnahmen gelten für das Hinzufügen weiterer Zeilen (z.B. für weitere Maßnahmen), das Hinzufügen weiterer Inhalte (z.B. Bilder) sowie die Anpassung von Zeilenhöhen sofern die Standardinhalte dadurch nicht ausgeblendet werden. | C20: The document "brose-8-d-problem-solving-scheme" is property of Brose. Major modifications are strictly prohibited without prior written consent. Exceptions are valid for adding new lines (e.g. for further measures), adding contents (e.g. pictures) or the modification of line heights if standard contents are not hidden by this.
A21: 1019 | B21: Bitte stellen Sie sicher, dass Sie immer die neueste Version unserer Vorlage verwenden. Sie finden diese auf https://www.brose.com/de-de/einkauf/handbuecher-vorlagen/ | C21: Please make sure you're always using the latest version of our template. You may find this via https://www.brose.com/de-en/purchasing/handbooks-templates/
A23: 8D-Report
A24: 2000 | B24: 8D - Report | C24: 8D - Report
A25: 2001 | B25: Tools / Hinweise | C25: Tools / Hints
A26: 2002 | B26: Werkzeug | C26: Tool
A27: 2003 | B27: Ist/Ist Nicht | C27: Is/Is Not
A28: 2004 | B28: Fehler-Entwicklung | C28: Failure development
A29: 2005 | B29: Sortierergebnisse | C29: Sorting results
A30: 2006 | B30: Read-Across | C30: Read-Across
A31: 2007 | B31: Ishikawa-Diagramm | C31: Ishikawa-Diagram
A32: 2008 | B32: Ursache & Wirkungsmatrix | C32: Cause & Effect Matrix
A33: 2009 | B33: Verifizierung Einflüsse | C33: Verify influences
A34: 2010 | B34: 5x Warum | C34: 5x Why
A35: 2011 | B35: Validierung | C35: Validation
... A195: 2815 | B195: Kommentar / Notizen | C195: Comments / Notes
A199: n.a.
A200: 3XXX
A202: Is / Is Not
A203: 4001 | B203: Is / Is Not | C203: Is / Is Not
A204: 4002 | B204: Problemstellung: | C204: Problem Statement:
A205: 4003 | B205: Auffälligkeiten | C205: Noticeable observations
A206: 4004 | B206: Problem- spezifikation | C206: Problem specification
...

Sheet Evaluation
B1: Evaluation (English only)
C4: Leader (Problem solving team) | AP4: Date:
C7: Is-Situation | AP7: Revised by:
AP10: Comments
D17: Legend for Evaluation
D19: Minimum requirements are NOT fulfilled in any of the D-steps | AP19: Evaluation =red ("r") 8D has to be reworked
D24: Minimum requirements are fulfilled BUT additional points are NOT fulfilled | AP24: Evaluation =amber ("a")
D29: Minimum requirements AND all additional points are fulfilled OR minimum requirements are fulfilled and additional points are not available (only D0 & D1) | AP29: Evaluation = green ("g") | CC29: Quality of problem solving
I35: description | AS35: evaluation (red,amber,green) | BA35: result | BE35: comments | CC35: up to D3 | CG35: up to D5/D6 | CK35: up to D8
D39: D0 Problem Statement | I39: Minimum Requirements: Description of what is good and what is bad in "What is wrong with what?"-form is done. | BA39: =IF(AS39="g",2,0) -> 0 | CC39: =IF(LEN(AS39&AS40&AS41&AS42)<4,"not finished",IF(OR(PRODUCT(BA39:BD42)=0,SUM(BA39:BD42)/42<0.5),"Bad",IF(SUM(BA39:BD42)/42<0.85,"Acceptable","Excellent"))) -> not finished | CG39: =IF(LEN(AS39&AS40&AS41&AS42&AS43&AS44)<6,"not finished",IF(OR(PRODUCT(BA39:BD44)=0,SUM(BA39:BD44)/72<0.5),"Bad",IF(OR(SUM(BA39:BD44)/72<0.85,SUM(BA43:BD44)/30<0.85),"Acceptable","Excellent"))) -> not finished | CK39: =IF(LEN(AS39&AS40&AS41&AS42&AS43&AS44&AS45&AS46)<8,"not finished",IF(OR(PRODUCT(BA39:BD46)=0,SUM(BA39:BD46)/100<0.5),"Bad",IF(OR(SUM(BA39:BD46)/100<0.85,SUM(BA45:BD46)/28<0.85),"Acceptable","Excellent"))) -> not finished
D40: D1 Team | I40: Minimum Requirements: 1) Team-leader and cross-functional team are defined and functions available 2) Contact Information team-leader available | BA40: =IF(AS40="g",5,0) -> 0
D41: D2 Problem Description | I41: Minimum Requirements: 1) Problem Description 2) Graphical representation of the problem available 3) W-questions used | Y41: Additional Points: Is/Is-Not is used properly (instead of W-questions) | BA41: =IF(AS41="g",20,IF(AS41="a",10,0)) -> 0
D42: D3 Containment Actions | I42: Minimum Reqirements: 1) Containment actions are defined, verified and validated 2) Inspection results / clean-point are available (use statistic sheet or equivalent) 3) Read-Across for other delivering locations is done 5) Timeframe within Brose expectation = 24hours (see Brose quality Management Regulations, chapter 22) | Y42: Additional Points: 1) Additional tracking and feedback via containment sheet 2) Proof of action effectiveness is well documented with facts and figures 3) Risks resulting from containments are evaluated and documented | BA42: =IF(AS42="g",15,IF(AS42="a",10,0)) -> 0
D43: D4 Failure Cause | I43: Minimum Requirements: Technical (root-)causes are identified (e.g. with 5Why) and verified (each for occurence and non-detection) | Y43: Additional Points: 1) Systemic (root-)causes are identified (e.g. with 5Why) and verified (each for occurence and non-detection) | BA43: =IF(AS43="g",15,IF(AS43="a",10,0)) -> 0
D44: D5/D6 Corrective Actions | I44: Minimum Requirements: 1) Corrective actions have been defined, verified and validated on each technical root cause 3) Read-Across for other delivering locations is done 3) Containment Actions have been removed after validation of PCA 4) Timeframe within Brose expectation = 5 days (see Brose quality Management Regulations, chapter 22) | Y44: Additional Points: 1) Verification Sheet is used as proof of effectiveness and all actions are well documented with facts and figures | BA44: =IF(AS44="g",15,IF(AS44="a",10,0)) -> 0
D45: D7 Lessons Learned | I45: Minimum Requirements: Direct product/process related documents have been communicated and implemented (like P-FMEA, work instructions, maintenance schedules, PLP, drawings…). | Y45: Additional Points: Necessary systemic changes (e.g. a Basic-FMEA, Design-Guidelines, Standards/Norms…) have been addressed (Lessons Learned applied) | BA45: =IF(AS45="g",15,IF(AS45="a",10,0)) -> 0
D46: D8 Completion | I46: Minimum Requirements: 1) Final 8D-Report send to Brose 2) Timeframe within Brose expectation = 10 days (see Brose quality Management Regulations, chapter 22) | Y46: Additional Points: Evaluation of PMP by independent person | BA46: =IF(AS46="g",13,IF(AS46="a",5,0)) -> 0
BE48: =IF(CC48=0,"Not all fields evaluated or minimum requirements (partially) not fulfilled.","") -> Not all fields evaluated or minimum requirements (partially) not fulfilled. | CC48: =IF(PRODUCT(BA39:BD46)=0,0,SUM(BA39:BD46)/100) -> 0

Sheet Help
B1: =VLOOKUP(13000,Languages!$A$5:$C$1032,Languages!$A$2,FALSE) -> Help
C4: =VLOOKUP(13001,Languages!$A$5:$C$1032,Languages!$A$2,FALSE) -> 8D - Report
D5: =VLOOKUP(13002,Languages!$A$5:$C$1032,Languages!$A$2,FALSE) -> The 8D-report is used as a reporting document in the automotive industry. With this document, it can be clarified between the customer and supplier what problem is present with which effects, who the contact persons are (e.g. who has been involved in the problem-solving), and which measures were taken. It acts as a guideline for systematic problem solving and supports the problem solving process by providing the corresponding tools. The following descriptions explain the 8D-steps, required technical terms, as well as the tools themselves. Please consider that Brose is especially focused on systematic problem solving - the use of some of the tools is therefore seen as mandatory (marked accordingly).
C7: =CONCATENATE("D0 - ",VLOOKUP(13003,Languages!$A$5:$C$1032,Languages!$A$2,FALSE)) -> D0 - Problem Statement
D8: =VLOOKUP(13004,Languages!$A$5:$C$1032,Languages!$A$2,FALSE) -> Step D0 acts as a rough description of the problem. In case of an official claim, you will receive this information from Brose. The problem description should always explain "WHAT is wrong with WHAT?" (in the form of object and deviation). For demonstration, the NOK-condition is opposed to the desired OK-condition (usually this is clear, but in some cases the required condition is not obvious). Examples: - current consumption too high (1A) versus desired current consumption of 0,1A - shaft length too long (33mm) versus shaft length 30±0,2mm
C10: =CONCATENATE("D1 - ",VLOOKUP(13005,Languages!$A$5:$C$1032,Languages!$A$2,FALSE)) -> D1 - Header / Problem solving team
D11: =VLOOKUP(13006,Languages!$A$5:$C$1032,Languages!$A$2,FALSE) -> Step D1 is used to describe the contact persons, the team as well as general information around the problem (e.g. material numbers, claim date etc.). Most of the general data will be provided by Brose.
D13: =VLOOKUP(2205,Languages!$A$5:$C$1032,Languages!$A$2,FALSE) -> Claim reference number / inspection report number (Brose) | S13: =VLOOKUP(13007,Languages!$A$5:$C$1032,Languages!$A$2,FALSE) -> A number given to you by Brose - please refer to this number in any correspondence with Brose.
D14: =VLOOKUP(2206,Languages!$A$5:$C$1032,Languages!$A$2,FALSE) -> Date when next update of 8D-report will be provided | S14: =VLOOKUP(13008,Languages!$A$5:$C$1032,Languages!$A$2,FALSE) -> Please enter here the SAP notification number stated in the claim announcement from Brose.
C16: =CONCATENATE("D2 - ",VLOOKUP(13009,Languages!$A$5:$C$1032,Languages!$A$2,FALSE)) -> D2 - Problem description
D17: =VLOOKUP(13010,Languages!$A$5:$C$1032,Languages!$A$2,FALSE) -> In step D2, the problem is described according to its effect and symptoms as detailed as possible (compared to D0 where the problem was desribed in a rough manner only). It is only allowed to use data, facts and figures - assumptions can lead to wrong conclusions and should therefore be avoided strictly! For collecting data, pictures, videos, and analysis data can be used as well as data from the containment actions if available (see step D3). Step D2 does not have to occur between D1 and D3 in a sequential manner, but rather this information should be gathered and updated throughout the entire problem solving process.
D19: =VLOOKUP(13011,Languages!$A$5:$C$1032,Languages!$A$2,FALSE) -> Is/Is Not (TOOL) | S19: =VLOOKUP(13012,Languages!$A$5:$C$1032,Languages!$A$2,FALSE) -> The Is/Is Not is a collection of all information to describe the problem using 12 questions. The specialty is that it asks not only what has been observed, but also what THEORETICALLY could have been observed, but in fact was not. Be sure to use facts only - if you are not sure, add the information to the column "missing information" and try to find an answer to these questions while the problem solving process is ongoing. Try to fill in each row if possible! The two columns "distinctions" and "changes" are used to generate first clues in regards to potential causes. The column "distinctions" is used to find suggestions why one state was observed, while the other wasn't - e.g. influence from temperatures could have influenced why a problem was geographically observed only in warmer regions, while not observed in colder regions. The column "changes" describes if e.g. a maintenance was done at the same period as the defective part was produced and thus could have caused the problem.
D20: =VLOOKUP(13013,Languages!$A$5:$C$1032,Languages!$A$2,FALSE) -> W-questions | S20: =VLOOKUP(13014,Languages!$A$5:$C$1032,Languages!$A$2,FALSE) -> These questions are used to deliver more detailed information regarding the problem, but the information is not gathered systematically compared to the Is/IsNot. The W-questions are thought to deliver a short but detailed overview of the problem within the 8D-report.
D21: =VLOOKUP(13015,Languages!$A$5:$C$1032,Languages!$A$2,FALSE) -> Suspect quantities and NOK-quantities | S21: =VLOOKUP(13016,Languages!$A$5:$C$1032,Languages!$A$2,FALSE) -> The suspect quantities decribe the amount of parts that still need to be analysed, which means that it is not yet known if those parts are OK or NOK. The NOK-quantity is the amount of found and verified defective parts. Different storage locations are considered here.
D22: =VLOOKUP(13017,Languages!$A$5:$C$1032,Languages!$A$2,FALSE) -> Failure development (TOOL) | S22: =VLOOKUP(13018,Languages!$A$5:$C$1032,Languages!$A$2,FALSE) -> The link leads to the tab "Statistic" - here it is collected all information how much NOK-parts are found where and when. The chart is also used to show evidence in later step D6 (verification and validation).
C24: =CONCATENATE("D3 - ",VLOOKUP(13019,Languages!$A$5:$C$1032,Languages!$A$2,FALSE)) -> D3 - Containment actions
D25: =VLOOKUP(13020,Languages!$A$5:$C$1032,Languages!$A$2,FALSE) -> In step D3, containment actions at Brose, the OEM or the supplier are documented which shall avoid NOK-parts being delivered to the customer (Brose / OEM) e.g. by using replacement deliveries, sorting activities or approved rework etc. In the moment the delivery with OK-parts can be ensured, the clean point has to be communicated to Brose, which means when does the first OK-delivery arrive at Brose, how is it marked etc. A 3D-report that contains all relevant information from step D1 to D3 has to be sent to Brose within 24 hours after a claim has been raised.
D27: =VLOOKUP(13021,Languages!$A$5:$C$1032,Languages!$A$2,FALSE) -> Read-Across (TOOL) | S27: =VLOOKUP(13022,Languages!$A$5:$C$1032,Languages!$A$2,FALSE) -> With the help of the Read-Across it is possible to check if the chosen containments can be applied to other projects, processes, plants or suppliers for the purpose of lessons learned. Please fill the rows with your chosen containments and the columns with projects, processes etc. which could be affected as well. Then check for each line and column of the matrix if it is applicable and feasible.
D28: =VLOOKUP(13023,Languages!$A$5:$C$1032,Languages!$A$2,FALSE) -> Sorting results (TOOL) | S28: =VLOOKUP(13024,Languages!$A$5:$C$1032,Languages!$A$2,FALSE) -> The link, like the Failure-Development (see above), leads to the tab "Statistic"- here it pertains to the lower half of this sheet. There, it is possible to collect sorting results and to generate a graphical representation.
C30: =CONCATENATE("D4 - ",VLOOKUP(13025,Languages!$A$5:$C$1032,Languages!$A$2,FALSE)) -> D4 - Failure cause
D31: =VLOOKUP(13026,Languages!$A$5:$C$1032,Languages!$A$2,FALSE) -> In step D4, all measures are documented that are necessary to analyse the technical causes and root causes. It is important that all causes are verified by doing tests or comparisons. Corrective actions that will be defined later can only be effective if evidence is shown that the real causes are found. To sustainably ensure that similar problems will not occur again, it is necessary to also consider the organizational backgrounds - the systemic causes. Therefore, an orientation at the three areas "Why is the defect made?", "Why was the defect shipped?" and "Why was the defect not avoided previously?"may be useful.
D33: =VLOOKUP(13027,Languages!$A$5:$C$1032,Languages!$A$2,FALSE) -> Ishikawa-Diagram (TOOL) | S33: =VLOOKUP(13028,Languages!$A$5:$C$1032,Languages!$A$2,FALSE) -> Apply a sufficient description of the problem in the field "problem / defect" . The Ishikawa-diagram helps you to identify the causes of errors. The sources of errors are divided by type and detection? into the following factors: Man, Machine, Material, Method and Nature. Expand this subdivision with more detailed causes within a superior point. In order to do this, use the provided fields and arrows in the lower box by drag & drop and fill in possible sources of errors in the yellow fields. Then, evaluate the noted causes by using the provided evaluation modules.
D34: =VLOOKUP(13029,Languages!$A$5:$C$1032,Languages!$A$2,FALSE) -> Cause & Effect Matrix (TOOL) | S34: =VLOOKUP(13030,Languages!$A$5:$C$1032,Languages!$A$2,FALSE) -> The Cause and Effect Matrix helps to accurately assess the available failure sources. Therein, the dimensions of the IS-criteria from the Is-/Is Not-Summary are compared to the possible causes from the Ishikawa-diagram. The yellow squares represent the intersections of respective criteria. Enter appropriate values and add them together in the "Result"-field to determine the most probable fault cause of the problem. The following measurement steps can be used: 1 = no relationship; 4 = barely connected; 7 = noticeably connected; 10 = very strong correlation
D35: =VLOOKUP(13031,Languages!$A$5:$C$1032,Languages!$A$2,FALSE) -> Verify influences (TOOL) | S35: =VLOOKUP(13032,Languages!$A$5:$C$1032,Languages!$A$2,FALSE) -> The influences found in the Ishikawa-diagram need to be evaluated according to their plausibility. Therefore, the potential cause is proven by a comparison of a good versus a bad part. Example: You have found a noisy window regulator. One chosen influence from the Ishikawa is found in category "Man," which is "part lubricated". It is now checked on the OK and NOK-part if the lubricant is present or not. If so, the influence can be disregarded. If the response is negative (OK-part was lubricated, NOK-part wasn't), one plausible cause has been found.
D36: =VLOOKUP(13033,Languages!$A$5:$C$1032,Languages!$A$2,FALSE) -> 5xWhy (TOOL) | S36: =VLOOKUP(13034,Languages!$A$5:$C$1032,Languages!$A$2,FALSE) -> The 5xWhy is used to explore the root causes with why-questions. Note the subdivision into "occurence", "non-detection" and "systemic". Systemic means to investigate what process/system was not robust and thus was allowing the failure to be made. Five questions are not always enough to find the root cause. Check this and continue the process if necessary.
C38: =CONCATENATE("D5/D6 - ",VLOOKUP(13035,Languages!$A$5:$C$1032,Languages!$A$2,FALSE)) -> D5/D6 - Corrective Actions
D39: =VLOOKUP(13036,Languages!$A$5:$C$1032,Languages!$A$2,FALSE) -> In step D5/D6, permanent corrective actions are planned, their implementation is documented and the efficiency is verified. First, corrective actions are defined for the root causes found. These actions must always include responsibilities, due dates and a current status. In general, there are actions for eliminating the failure occurence and the non-detection. Then, the actions' effectiveness must be verified and validated so that it can be ensured that the failure will not reocurr.
