Workbook
Name _AM1: #REF!
Name _e1: #REF!
Name _e1: #REF!
Name _e10: #REF!
Name _e10: #REF!
Name _e2: #REF!
Name _e2: #REF!
Name _e3: #REF!
Name _e3: #REF!
Name _e4: #REF!
Name _e4: #REF!
Name _e5: #REF!
Name _e5: #REF!
Name _e6: #REF!
Name _e6: #REF!
Name _e7: #REF!
Name _e7: #REF!
Name _e8: #REF!
Name _e8: #REF!
Name _e9: #REF!
Name _e9: #REF!
Name _Ep1: #REF!
Name _Ep1: #REF!
Name _Ep2: #REF!
Name _Ep2: #REF!
Name _Ep3: #REF!
Name _Ep3: #REF!
Name _Ep4: #REF!
Name _Ep4: #REF!
Name _Ep5: #REF!
Name _Ep5: #REF!
Name _Ep6: #REF!
Name _Ep6: #REF!
Name _epg1: #REF!
Name _epg1: #REF!
Name _epg2: #REF!
Name _epg2: #REF!
Name _epg3: #REF!
Name _epg3: #REF!
Name _epg4: #REF!
Name _epg4: #REF!
Name _epg5: #REF!
Name _epg5: #REF!
Name _epg6: #REF!
Name _epg6: #REF!
Name _es1: #REF!
Name _es1: #REF!
Name _es2: #REF!
Name _es2: #REF!
Name _es3: #REF!
Name _es3: #REF!
Name _es4: #REF!
Name _es4: #REF!
Name _Li1: #REF!
Name _Li1: #REF!
Name _Li2: [1]Voreinstellungen!#REF!
Name _Re1: #REF!
Name _Re1: #REF!
Name _Re2: #REF!
Name _Re2: #REF!

Sheet LANGUAGE
D1: ►
B2: 1 | C2: Festlegung der Sprache | D2: Sprachauswahl
F3: Status "Bewertung" | G3: Status "Maßnahme" | H3: Auswahlfeld FRT Durchführung | I3: Auswahlfeld Wiederholung FRT notwendig | J3: Sofortmaßnahme | K3: Ergebnis | X3: Auswahl
C4: Version: | D4: Deutsch | F4: green | G4: =HLOOKUP(LANGUAGE!$B$2,LANGUAGE!$C$14:$G$1217,128) -> in Arbeit | H4: =HLOOKUP(LANGUAGE!$B$2,LANGUAGE!$C$14:$G$1217,1008) -> Brose | I4: =HLOOKUP(LANGUAGE!$B$2,LANGUAGE!$C$14:$G$1217,1033) -> 0 | J4: x
D5: English | E5: rote Eingaben sind nicht konform zur deutschen Variante! | F5: yellow | G5: =HLOOKUP(LANGUAGE!$B$2,LANGUAGE!$C$14:$G$1217,129) -> erledigt | H5: =HLOOKUP(LANGUAGE!$B$2,LANGUAGE!$C$14:$G$1217,1002) -> 0 | I5: =HLOOKUP(LANGUAGE!$B$2,LANGUAGE!$C$14:$G$1217,1034) -> 0
C6: Erläuterungen zum Versionswechsel - siehe Startseite | D6: Czech | F6: red | G6: =HLOOKUP(LANGUAGE!$B$2,LANGUAGE!$C$14:$G$1217,130) -> offen
D7: Chinese
F8: green | H8: =COUNTBLANK(SLW!Z35:Z86) -> 51
F9: yellow
B10: 1 | C10: Auswahl für Analyse-Seite | F10: red
F11: not relevant
A13: Reiter | B13: 0 | C13: Deutsch | D13: English | E13: Chinesisch | F13: Português (BRA) | G13: Español
B14: =ROW()-13 -> 1 | C14: 1 | D14: 2 | E14: 3 | F14: 4 | G14: 5
A15: General | B15: 2 | C15: Achtung!!! Nur gelb markierte Felder ausfüllen. | D15: Attention!!! Only yellow fields has to be filled
A16: General | B16: 3
A17: General | B17: 4
A18: General | B18: 5
A19: General | B19: 6
A20: General | B20: 7
A21: General | B21: 8
A22: General | B22: 9
A23: General | B23: 10
A24: General | B24: 11
A25: General | B25: 12 | C25: Überprüfte Teilenummer | D25: Verified Partnumber
A26: General | B26: 13 | C26: Teilenummer | D26: Part number
A27: General | B27: 14 | C27: Teilebezeichnung(en) | D27: Part Name(s)
A28: General | B28: 15
A29: General | B29: 16
A30: General | B30: 17
A31: General | B31: 18
A32: General | B32: 19
A33: General | B33: 20
A34: General | B34: 21 | C34: Datum | D34: Date
A35: General | B35: 22
A36: General | B36: 23
A37: General | B37: 24
A38: General | B38: 25
A39: General | B39: 26
A40: General | B40: 27 | C40: Lieferantendaten | D40: Supplier Data
A41: General | B41: 28 | C41: Lieferant | D41: Supplier
A42: General | B42: 29 | C42: Lieferantennummer | D42: Supplier Number
A43: General | B43: 30
A44: General | B44: 31
A45: General | B45: 32
A46: General | B46: 33
A47: General | B47: 34
A48: General | B48: 35
A49: General | B49: 36
A50: General | B50: 37
A51: General | B51: 38
A52: General | B52: 39
A53: General | B53: 40 | C53: Materialdaten | D53: Material Data
A54: General | B54: 41 | C54: Brose Teile Nr. | D54: Brose Part No.
A55: General | B55: 42 | C55: Index | D55: Index
A56: General | B56: 43 | C56: Brose Zeichnungs Nr. | D56: Brose Drawing No.
A57: General | B57: 44
A58: General | B58: 45
A59: General | B59: 46
A60: General | B60: 47
A61: General | B61: 48
A62: General | B62: 49
A63: General | B63: 50
A64: General | B64: 51
A65: General | B65: 52
A66: General | B66: 53
A67: General | B67: 54
A68: General | B68: 55
... A79: General | B79: 66
A80: General | B80: 67 | C80: Keine Bewertung möglich! Bitte Status Maßnahmen pflegen! | D80: Evaluation impossible! Please define action status!
A81: General | B81: 68
A82: General | B82: 69
A83: General | B83: 70
A84: General | B84: 71
A85: General | B85: 72
A86: General | B86: 73 | C86: Thema | D86: Topic
A87: General | B87: 74 | C87: Bewer-tung | D87: Evalua-tion
A88: General | B88: 75 | C88: Status Maßnahme | D88: Action status
A89: General | B89: 76 | C89: Kommerziell | D89: Commercial
A90: General | B90: 77 | C90: Projekt Management | D90: Project management
A91: General | B91: 78 | C91: Qualität | D91: Quality
A92: General | B92: 79 | C92: Unterlieferanten | D92: Sub-supplier
A93: General | B93: 80 | C93: Gesamtstatus | D93: Overal status
A94: General | B94: 81 | C94: Sofort-maß-nahmen | D94: imme-diate mea-sures
A95: General | B95: 82
A96: General | B96: 83
A97: General | B97: 84
A98: General | B98: 85
A99: General | B99: 86
A100: General | B100: 87
A101: General | B101: 88
A102: General | B102: 89
A103: General | B103: 90
A104: General | B104: 91 | C104: Nr. | D104: No.
A105: General | B105: 92 | C105: Frage | D105: Question
A106: General | B106: 93 | C106: Hinweise | D106: Notes
A107: General | B107: 94
A108: General | B108: 95 | C108: Maßnahme | D108: Action
A109: General | B109: 96 | C109: Verantwortlich | D109: Responsible
A110: General | B110: 97
A111: General | B111: 98
...

Sheet SLW
B1: =HLOOKUP(LANGUAGE!$B$2,LANGUAGE!$C$14:$G$1217,981) -> Supplier Line Walk | P1: Sprachauswahl
P2: Select language
Q3: =HLOOKUP(LANGUAGE!$B$2,LANGUAGE!$C$14:$G$1217,2) -> Achtung!!! Nur gelb markierte Felder ausfüllen.
B5: =HLOOKUP(LANGUAGE!$B$2,LANGUAGE!$C$14:$G$1217,12) -> Überprüfte Teilenummer | Q5: =HLOOKUP(LANGUAGE!$B$2,LANGUAGE!$C$14:$G$1217,27) -> Lieferantendaten | AG5: =HLOOKUP(LANGUAGE!$B$2,LANGUAGE!$C$14:$G$1217,21) -> Datum
B6: =HLOOKUP(LANGUAGE!$B$2,LANGUAGE!$C$14:$G$1217,13) -> Teilenummer | Q6: =HLOOKUP(LANGUAGE!$B$2,LANGUAGE!$C$14:$G$1217,28) -> Lieferant
B7: =HLOOKUP(LANGUAGE!$B$2,LANGUAGE!$C$14:$G$1217,14) -> Teilebezeichnung(en) | Q7: =HLOOKUP(LANGUAGE!$B$2,LANGUAGE!$C$14:$G$1217,29) -> Lieferantennummer
B9: =HLOOKUP(LANGUAGE!$B$2,LANGUAGE!$C$14:$G$1217,116) -> Teilnehmer Lieferant | I9: =HLOOKUP(LANGUAGE!$B$2,LANGUAGE!$C$14:$G$1217,112) -> Abteilung | M9: =HLOOKUP(LANGUAGE!$B$2,LANGUAGE!$C$14:$G$1217,102) -> Unterschrift | U9: =HLOOKUP(LANGUAGE!$B$2,LANGUAGE!$C$14:$G$1217,115) -> Teilnehmer Brose | AB9: =HLOOKUP(LANGUAGE!$B$2,LANGUAGE!$C$14:$G$1217,112) -> Abteilung | AF9: =HLOOKUP(LANGUAGE!$B$2,LANGUAGE!$C$14:$G$1217,102) -> Unterschrift
B22: =HLOOKUP(LANGUAGE!$B$2,LANGUAGE!$C$14:$G$1217,1065) -> Um ein Ergebnis für den SLW zu erhalten müssen alle Fragen beantwortet werden!
B23: =HLOOKUP(LANGUAGE!$B$2,LANGUAGE!$C$14:$G$1217,1044) -> Ergebnis | R23: =HLOOKUP(LANGUAGE!$B$2,LANGUAGE!$C$14:$G$1217,1063) -> Die Gesamteinstufung zum Supplier Line Walk ergibt sich aus der Anzahl der jeweils red/yellow/green bewerteten Fragen:
I24: =(Y27*30)+(P27*0.02)+G27 -> 0 | R24: =HLOOKUP(LANGUAGE!$B$2,LANGUAGE!$C$14:$G$1217,1055) -> Grün | U24: =HLOOKUP(LANGUAGE!$B$2,LANGUAGE!$C$14:$G$1217,1059) -> Bis 6 yellow bewertete Fragen
R25: =HLOOKUP(LANGUAGE!$B$2,LANGUAGE!$C$14:$G$1217,1056) -> Gelb | U25: =HLOOKUP(LANGUAGE!$B$2,LANGUAGE!$C$14:$G$1217,1060) -> Von 7 - 12 yellow bewerteten Fragen
R26: =HLOOKUP(LANGUAGE!$B$2,LANGUAGE!$C$14:$G$1217,1057) -> Rot | U26: =HLOOKUP(LANGUAGE!$B$2,LANGUAGE!$C$14:$G$1217,1061) -> Ab 13 yellow bewerteten Fragen oder 1 red bewertete Frage
B27: =HLOOKUP(LANGUAGE!$B$2,LANGUAGE!$C$14:$G$1217,1047) -> Anzahl bewertet mit "red" | G27: =COUNTIF(Z34:Z86,"red") -> 0 | K27: =HLOOKUP(LANGUAGE!$B$2,LANGUAGE!$C$14:$G$1217,1052) -> Anzahl bewertet mit "yellow" | P27: =COUNTIF(Z34:Z86,"yellow") -> 0 | T27: =HLOOKUP(LANGUAGE!$B$2,LANGUAGE!$C$14:$G$1217,1046) -> Anzahl Sofortmaßnahmen | Y27: =COUNTIF(AA35:AA86,"X") -> 0 | AC27: =HLOOKUP(LANGUAGE!$B$2,LANGUAGE!$C$14:$G$1217,1048) -> Vorlage Maßnahmenplan bis:
E29: =HLOOKUP(LANGUAGE!$B$2,LANGUAGE!$C$14:$G$1217,1051) -> Fragen bewertet mit "yellow" stellen kein Risiko bezüglich einer Nichtkonfirmität am Produkt dar
B31: =HLOOKUP(LANGUAGE!$B$2,LANGUAGE!$C$14:$G$1217,1109) -> Allgemein
B33: =HLOOKUP(LANGUAGE!$B$2,LANGUAGE!$C$14:$G$1217,91) -> Nr. | C33: =HLOOKUP(LANGUAGE!$B$2,LANGUAGE!$C$14:$G$1217,73) -> Thema | E33: =HLOOKUP(LANGUAGE!$B$2,LANGUAGE!$C$14:$G$1217,92) -> Frage | M33: =HLOOKUP(LANGUAGE!$B$2,LANGUAGE!$C$14:$G$1217,93) -> Hinweise | U33: =HLOOKUP(LANGUAGE!$B$2,LANGUAGE!$C$14:$G$1217,114) -> Bemerkungen | Z33: =HLOOKUP(LANGUAGE!$B$2,LANGUAGE!$C$14:$G$1217,74) -> Bewer-tung | AA33: =HLOOKUP(LANGUAGE!$B$2,LANGUAGE!$C$14:$G$1217,81) -> Sofort-maß-nahmen | AB33: =HLOOKUP(LANGUAGE!$B$2,LANGUAGE!$C$14:$G$1217,95) -> Maßnahme | AF33: =HLOOKUP(LANGUAGE!$B$2,LANGUAGE!$C$14:$G$1217,96) -> Verantwortlich | AI33: =HLOOKUP(LANGUAGE!$B$2,LANGUAGE!$C$14:$G$1217,21) -> Datum | AK33: =HLOOKUP(LANGUAGE!$B$2,LANGUAGE!$C$14:$G$1217,75) -> Status Maßnahme
B35: 1 | C35: =HLOOKUP(LANGUAGE!$B$2,LANGUAGE!$C$14:$G$1217,1110) -> Arbeitsanweisung | E35: =HLOOKUP(LANGUAGE!$B$2,LANGUAGE!$C$14:$G$1217,1111) -> Sind die Produkt- und Prozess- Merkmale in den Prüfanweisungen durchgängig? | M35: =HLOOKUP(LANGUAGE!$B$2,LANGUAGE!$C$14:$G$1217,1112) -> - Merkmale aus PLP sind in die Prüfanweisung überführt - Überprüfen das die vorhanden Version des PLP mit der Version im SAP (A2 Meldung) übereinstimmt
B38: 2* | C38: =HLOOKUP(LANGUAGE!$B$2,LANGUAGE!$C$14:$G$1217,1103) -> Requalifikation * | E38: =HLOOKUP(LANGUAGE!$B$2,LANGUAGE!$C$14:$G$1217,1104) -> Wird die Requalifikation jährlich durchgeführt und ist das Ergebnis der Requalifikationsprüfung i.O.? | M38: =HLOOKUP(LANGUAGE!$B$2,LANGUAGE!$C$14:$G$1217,1105) -> - Es sind 1x jährlich alle Maße bei jeder Kavität zu überprüfen, für SPC-Merkmale können die Messwerte der letzten 12 Monate zu Grunde gelegt werden. - Ist eine Requalifikationsplanung vorhanden, und dieses Bauteil aufgeführt? - Wenn der Lieferant von dieser Regelung abweicht, ist der entsprechende Nachweis einer Vereinbarung mit Brose vorzulegen (Sonderfall: Wenn bei der Requalifizierungsprüfung Abweichungen festgestellt wurden und eine gültige AWE zu den Abweichungen vorliegt, ist das Ergebnis mit JA zu beantworten.) | AA38: =IF(Z38="red","X","")
B41: 3 | C41: =HLOOKUP(LANGUAGE!$B$2,LANGUAGE!$C$14:$G$1217,1106) -> Reklamations -bearbeitung | E41: =HLOOKUP(LANGUAGE!$B$2,LANGUAGE!$C$14:$G$1217,1107) -> Gibt es eine Übersicht zu Reklamationen? | M41: =HLOOKUP(LANGUAGE!$B$2,LANGUAGE!$C$14:$G$1217,1108) -> Wenn Reklamationen zu dem betrachteten Bauteil, dann stichprobenartige Überprüfung der Abstellmaßnahmen in der Fertigung.
B45: =HLOOKUP(LANGUAGE!$B$2,LANGUAGE!$C$14:$G$1217,1114) -> Line-Walk
B47: =HLOOKUP(LANGUAGE!$B$2,LANGUAGE!$C$14:$G$1217,91) -> Nr. | C47: =HLOOKUP(LANGUAGE!$B$2,LANGUAGE!$C$14:$G$1217,73) -> Thema | E47: =HLOOKUP(LANGUAGE!$B$2,LANGUAGE!$C$14:$G$1217,92) -> Frage | M47: =HLOOKUP(LANGUAGE!$B$2,LANGUAGE!$C$14:$G$1217,93) -> Hinweise | U47: =HLOOKUP(LANGUAGE!$B$2,LANGUAGE!$C$14:$G$1217,114) -> Bemerkungen | Z47: =HLOOKUP(LANGUAGE!$B$2,LANGUAGE!$C$14:$G$1217,74) -> Bewer-tung | AA47: =HLOOKUP(LANGUAGE!$B$2,LANGUAGE!$C$14:$G$1217,81) -> Sofort-maß-nahmen | AB47: =HLOOKUP(LANGUAGE!$B$2,LANGUAGE!$C$14:$G$1217,95) -> Maßnahme | AF47: =HLOOKUP(LANGUAGE!$B$2,LANGUAGE!$C$14:$G$1217,96) -> Verantwortlich | AI47: =HLOOKUP(LANGUAGE!$B$2,LANGUAGE!$C$14:$G$1217,21) -> Datum | AK47: =HLOOKUP(LANGUAGE!$B$2,LANGUAGE!$C$14:$G$1217,75) -> Status Maßnahme
B49: 4 | C49: =HLOOKUP(LANGUAGE!$B$2,LANGUAGE!$C$14:$G$1217,1110) -> Arbeitsanweisung | E49: =HLOOKUP(LANGUAGE!$B$2,LANGUAGE!$C$14:$G$1217,1132) -> Sind die Arbeitsanweisungen am Arbeitsplatz vorhanden? | M49: =HLOOKUP(LANGUAGE!$B$2,LANGUAGE!$C$14:$G$1217,1150) -> - Arbeitsanweisungen (einschließlich Sortier-, Nacharbeits-, Prüfanweisungen, Verpackungs- und Prozessparameterdokumente) sind an der Linie verfügbar und freigegeben (Datum, Verantwortliche sind festgelegt) - Die Sprache der Arbeitsanweisung kann vom Arbeitnehmer verstanden werden
B52: 5 | C52: =HLOOKUP(LANGUAGE!$B$2,LANGUAGE!$C$14:$G$1217,1117) -> Qualifizierung | E52: =HLOOKUP(LANGUAGE!$B$2,LANGUAGE!$C$14:$G$1217,1133) -> Sind die Mitarbeiter qualifiziert? | M52: =HLOOKUP(LANGUAGE!$B$2,LANGUAGE!$C$14:$G$1217,1151) -> - Skillmatrix verfügbar und aktuell. - Mitarbeiter arbeitet nur an Prozessen für die eine Qualifikation vorliegt - Mitarbeiter kann sein Arbeitsinhalte erklären - Schulungen werden regelmäßig (z.B. jährlich) wiederholt
B55: 6 | C55: =HLOOKUP(LANGUAGE!$B$2,LANGUAGE!$C$14:$G$1217,1118) -> Handhabung von Teilen | E55: =HLOOKUP(LANGUAGE!$B$2,LANGUAGE!$C$14:$G$1217,1134) -> Werden die Vormaterialien vorschriftsmäßig gelagert? | M55: =HLOOKUP(LANGUAGE!$B$2,LANGUAGE!$C$14:$G$1217,1152) -> - FIFO eingehalten - Verwechslungssichere Bereitstellung von Material für die Linie - definierte Stellplätze werden eingehalten
B58: 7 | C58: =HLOOKUP(LANGUAGE!$B$2,LANGUAGE!$C$14:$G$1217,1119) -> Handhabung von Teilen | E58: =HLOOKUP(LANGUAGE!$B$2,LANGUAGE!$C$14:$G$1217,1135) -> Sind die erforderlichen Kennzeichnungen auf den Behältern für jeweiligen Erzeugnissen vorhanden und verwechslungssicher? | M58: =HLOOKUP(LANGUAGE!$B$2,LANGUAGE!$C$14:$G$1217,1153) -> - Behälter sind eindeutig gekennzeichnet bzgl. Teilenummer, Teilestatus , D-Teil - halbfertige Teile und suspekte Teile sind eindeutig gekennzeichnet (farbig; unbrauchbar, usw.) - alte/ungültige Kennzeichnungen wurden entfernt
B61: 8* | C61: =HLOOKUP(LANGUAGE!$B$2,LANGUAGE!$C$14:$G$1217,1120) -> Teilekontrolle | E61: =HLOOKUP(LANGUAGE!$B$2,LANGUAGE!$C$14:$G$1217,1136) -> Ist die Erstteilfreigabe / serienbegleitende Prüfung ordnungsgemäß durchgeführt, dokumentiert und i.O.? | M61: =HLOOKUP(LANGUAGE!$B$2,LANGUAGE!$C$14:$G$1217,1154) -> - Prüfungen sind durchgeführt und i. O. - Sind die aktuellen Prozessparameter innerhalb der vorgebenen Spezifikation? - Sind die Kriterien für eine Wiederfreigabe definiert? | AA61: =IF(Z61="red","X","")
B64: 8.1* | C64: =HLOOKUP(LANGUAGE!$B$2,LANGUAGE!$C$14:$G$1217,1120) -> Teilekontrolle | E64: =HLOOKUP(LANGUAGE!$B$2,LANGUAGE!$C$14:$G$1217,1147) -> Pflichtanforderung für Stanzteillieferanten (Bandstahlverarbeitung - meist in Coilform): Ist sichergestellt, dass jedes Coil vor Verarbeitung einer Prüfung auf Breite und Dicke oder Härte gemäß der Brose-Norm BN569142 oder BN590595 oder BN590614 unterzogen wird? | M64: =HLOOKUP(LANGUAGE!$B$2,LANGUAGE!$C$14:$G$1217,1165) -> - Die Sollwerte für Coilbreite und -dicke sind im Prüfplan aufgenommen. - bei ähnlichen Coilbreiten (Nennmaß +/- 2 mm) und -dicken ist an jedem Coil eine Zugprüfung bzw. Härteprüfung nach BN 590603 durchzuführen. - Alternativ, eine Kennzeichnung der Materialgüte (z.B. S500MC) dauerhaft, unveränderbar und gut lesbar im Bereich der Innenwindung jedes Coils anzubringen, Gegenprüfung mittels Prüfplan. | AA64: =IF(Z64="red","X","")
B67: 9 | C67: =HLOOKUP(LANGUAGE!$B$2,LANGUAGE!$C$14:$G$1217,1121) -> Qualitäts / Prozessdaten | E67: =HLOOKUP(LANGUAGE!$B$2,LANGUAGE!$C$14:$G$1217,1137) -> Werden qualitäts- und prozessbezogene Daten erfasst und werden Maßnahmen daraus abgeleitet? | M67: =HLOOKUP(LANGUAGE!$B$2,LANGUAGE!$C$14:$G$1217,1155) -> - Fehlersammelkarte für Arbeitsplätze, Sortier- und Nacharbeitsplätze (Fehlerart / Frequenzen), Fehlerkatalog, - Prozessparameter werden bei Änderung dokumentiert (Temperatur, Zeit, Druck, ...) - Prüfung auf Vorhandensein von vorhergehenden Aufzeichnungen
B69: 10 | C69: =HLOOKUP(LANGUAGE!$B$2,LANGUAGE!$C$14:$G$1217,1122) -> Fertigungsmaterial | E69: =HLOOKUP(LANGUAGE!$B$2,LANGUAGE!$C$14:$G$1217,1138) -> Werden die Verpackungsanweisungen eingehalten? | M69: =HLOOKUP(LANGUAGE!$B$2,LANGUAGE!$C$14:$G$1217,1156) -> - Verpackung sauber und nicht beschädigt - Verpackung geeignet offensichtliche Beschädigungen an den Teilen auszuschließen - Kennzeichnung am Behälter gemäß Verpackungsanweisung
B71: 11 | C71: =HLOOKUP(LANGUAGE!$B$2,LANGUAGE!$C$14:$G$1217,1123) -> Prozesskontrolle | E71: =HLOOKUP(LANGUAGE!$B$2,LANGUAGE!$C$14:$G$1217,1139) -> Sind Fertigungsparameter gegen unberechtigten Zugriff geschützt und erfolgt eine Dokumentation bei Änderungen innerhalb der zulässigen Toleranzgrenzen? | M71: =HLOOKUP(LANGUAGE!$B$2,LANGUAGE!$C$14:$G$1217,1157) -> - Ist der Personenkreis die Parameter verändern können festgelegt/eingeschränkt - Sofern automatische Maschinenüberwachungen zur Verfügung stehen, sind diese aktiviert
B73: 12* | C73: =HLOOKUP(LANGUAGE!$B$2,LANGUAGE!$C$14:$G$1217,1124) -> Prozesskontrolle * | E73: =HLOOKUP(LANGUAGE!$B$2,LANGUAGE!$C$14:$G$1217,1140) -> Sind alle definierten Prozesskontrollen an der Anlage aktiviert und ist sichergestellt, dass nicht o. k. Teile gegen unberechtigten Zugriff geschützt sind? (z.B.: 4D weld watcher, Schraubmoment & -winkel, Endprüfstand, …) | M73: =HLOOKUP(LANGUAGE!$B$2,LANGUAGE!$C$14:$G$1217,1158) -> - Prozesskontrollen sind an der Anlage aktiviert - bei Abweichungen, wird eine temporäre Firewall installiert | AA73: =IF(Z73="red","X","")
B75: 13 | C75: =HLOOKUP(LANGUAGE!$B$2,LANGUAGE!$C$14:$G$1217,1125) -> Prozesskontrolle | E75: =HLOOKUP(LANGUAGE!$B$2,LANGUAGE!$C$14:$G$1217,1141) -> Werden die Prozesskontrollen mit n.i.O-Mustern regelmäßig verifiziert? | M75: =HLOOKUP(LANGUAGE!$B$2,LANGUAGE!$C$14:$G$1217,1159) -> - PY (Poke Yoke) Einrichtungen werden nach einer definierten Frequenz mit n.i.O. Muster geprüft und die Ergebnisse werden dokumentiert | AA75: =IF(Z75="not o. k.","X","")
B77: 14* | C77: =HLOOKUP(LANGUAGE!$B$2,LANGUAGE!$C$14:$G$1217,1126) -> Prozesskontrolle | E77: =HLOOKUP(LANGUAGE!$B$2,LANGUAGE!$C$14:$G$1217,1142) -> Sind die verwendeten Prüfmittel kalibriert und i.O.? | M77: =HLOOKUP(LANGUAGE!$B$2,LANGUAGE!$C$14:$G$1217,1160) -> - Prüfmittel, Messmittel, Lehren mit gültiger Kalibrierung (Plakette) - MSA 1 und MSA 2 für alle Messmittel vorhanden - Prüfmittel ordnungsgemäß gelagert und ohne Beschädigung - Referenzteile und Poke-Yoke-Teile mit gültigen Index (inkl. eindeutige Kennzeichnung / Prüfaufkleber vorhanden) | AA77: =IF(Z77="red","X","")
B79: 15 | C79: =HLOOKUP(LANGUAGE!$B$2,LANGUAGE!$C$14:$G$1217,1127) -> Arbeitsplatz | E79: =HLOOKUP(LANGUAGE!$B$2,LANGUAGE!$C$14:$G$1217,1143) -> Entsprechen die Arbeits- und Prüfplätze den Anforderungen? | M79: =HLOOKUP(LANGUAGE!$B$2,LANGUAGE!$C$14:$G$1217,1161) -> - Ordnung & Sauberkeit, ergonomische Bedingungen & Arbeitsschutzrichtlinien ermöglichen sicheres Arbeiten und Herstellung von i.O-Teilen und Verwechslung von Teilen
B81: 16* | C81: =HLOOKUP(LANGUAGE!$B$2,LANGUAGE!$C$14:$G$1217,1128) -> Handhabung von Teilen * | E81: =HLOOKUP(LANGUAGE!$B$2,LANGUAGE!$C$14:$G$1217,1144) -> Sind suspekte & n.i.O-Teile verwechslungssicher von i.O-Teilen separiert? | M81: =HLOOKUP(LANGUAGE!$B$2,LANGUAGE!$C$14:$G$1217,1162) -> - Sind suspekte und n.i.O. Bestände systemseitig gesperrt - Suspekte Teile an der Linie werden in n.i.O.-Kisten separiert - Suspekte und n.i.O. Teile werden im Sperrlager gelagert, eine Bestandsliste ist vorhanden - NOK Teile sind auf dem Behälter gekennzeichnet | AA81: =IF(Z81="red","X","")
B83: 17 | C83: =HLOOKUP(LANGUAGE!$B$2,LANGUAGE!$C$14:$G$1217,1129) -> Equipment | E83: =HLOOKUP(LANGUAGE!$B$2,LANGUAGE!$C$14:$G$1217,1145) -> Werden Werkzeuge und Ausrüstung ordnungsgemäß gelagert? | M83: =HLOOKUP(LANGUAGE!$B$2,LANGUAGE!$C$14:$G$1217,1163) -> - Definierter Lagerort und frei von Beschädigungen gelagert - Statuskennzeichnung - Freigabestatus, Änderungsstand, Eigentumskennzeichnung (Kunde, Lieferant, Brose) - Ordnung und Sauberkeit
B85: 18 | C85: =HLOOKUP(LANGUAGE!$B$2,LANGUAGE!$C$14:$G$1217,1130) -> Wartung | E85: =HLOOKUP(LANGUAGE!$B$2,LANGUAGE!$C$14:$G$1217,1146) -> Wird eine präventive Instandhaltung für Werkzeuge und Maschinen durchgeführt? | M85: =HLOOKUP(LANGUAGE!$B$2,LANGUAGE!$C$14:$G$1217,1164) -> - Aufzeichnungen zur präventive Instandhaltung sind verfügbar - Intervalle der Instandhaltung werden eingehalten

Sheet Manual
A1: Kurzanleitung Supplier Line Walk (SLW) 1. Durchführung vom SLW Der Anwender führt den SLW anhand der SLW-Checkliste durch und bewertet den vorgefundenen Stand. In der Spalte "Hinweise" befinden sich ergänzende Hinweise diese sollen als weitere Hilfestellung für den Anwender dienen. In den Kopfdaten sind Teilebezeichnung, Teilenummer und Teilnehmer einzutragen. Das Supplier Line Walk Self-Assessment muss nur auf Anfrage an Brose geschickt werden. 2. Bewertung der Fragen mit „green“, „yellow“ oder „red“ Der vorgefundenen Stand bitte wie folgt bewerten: „green“ - voll erfüllt „yellow“ - Prozess / Anforderung noch nicht vollständig erfüllt, jedoch kein Risiko bezüglich einer Nichtkonformität am Produkt, nach momentanen Stand ist keine Qualitätsbeanstandung zu erwarten. „red“ - Vorgaben nicht erfüllt, Risiko bezüglich einer Nichtkonformität am Produkt, eine Beanstandung kann nicht ausgeschlossen werden. Es müssen alle Fragen beantwortet werden, um ein Ergebnis des SLW angezeigt zu bekommen! Im Bemerkungsfeld wird bei „yellow“ und „red“ die Abweichung detailliert beschrieben (nachweislich und nachvollziehbar dokumentieren). 3. Bewertung der Fragen mit * Fragen mit * sind Fragen mit höherer Bedeutung und können bei Abweichungen direkt zu einer Nichtkonformität am Produkt führen. Wird eine * Frage mit "red" bewertet, ist eine Sofortmaßnahme zu starten und entsprechend zu dokumentieren. 4. Sofortmaßnahmen Bei den nicht *- Fragen kann eine Sofortmaßnahme manuell angewählt werden. Bei Fragen mit * ist eine Sofortmaßnahme zu starten, um eine Produktion von potentiellen n.o.k.-Teilen zu vermeiden. 5. Deckblatt Supplier Line Walk abstimmen und unterschreiben. Die Kopfdaten stellen gleichzeitig das Deckblatt des SLW dar. Im Deckblatt wird das Ergebnis des SLW mit grün, gelb oder rot angezeigt. Zudem wird eine Zusammenfassung der Abweichungen dargestellt. Diese sind mit „Sofortmaßnahmen“, Anzahl „red“ und / oder „yellow“ bewertete Fragen zusammengefasst. Des Weiteren ist ein Datum für die erste Rückmeldung für den zu erstellenden Maßnahmenplan einzutragen. Unter Teilnehmer bitte die anwesenden Personen (Lieferant und Brose) eintragen und unterschreiben lassen. 6. Maßnahmenplan Für Fragen, die mit „yellow“ oder „red“ bewertet wurden sind nachfolgend Maßnahmen, Verantwortlichkeiten und Termine zu definieren Der erstellte Maßnahmenplan wird vom Durchführenden so lange verfolgt, bis alle im Maßnahmen abgeschlossen sind, der Status wird am Ende in der jeweiligen Zeile bewertet / abgeschlossen. 7. Ergebnis Das Gesamtergebnis wir in "grün", "gelb" oder "rot" angezeigt. Die Bewertung des Ergebnisses erfolgt in Anlehung an die Ergebnisbewertung der Potentialanalyse des VDA. Es müsen alle Fragen bewertet werden. 8. Folgeschritte festlegen (Punktabzug in Lieferantenbewertung) Je nach Anzahl der Fragen die nicht mit green beantwortet sind, wird gemäß der AA_GR_00263_01_XXX „Bewertung von Lieferanten für Produktionsmaterial während der Serie“ Punkte in der Lieferantenbewertung abgezogen. - Ergebnis "grün" oder "gelb" kein Abzug in der Lieferantenbewertung - nicht termingerechte Maßnahmenbearbeitung -> Fehlercode 5910 -> 21 Punkte Abzug - Ergebnis rot -> ab 13 Fragen gelb -> Fehlercode 5970 -> 21 Punkte Abzug - Ergebnis rot -> ab 1 Frage rot -> Fehlercode 5980 -> 41 Punkte Abzug Die L1 Meldung wird vom Durchführenden erstellt. 9. Ergebnis vom durchgeführten SLW ablegen Das unterschriebene Deckblatt sowie der Fragebogen (mit Einträgen) und der abgestimmte „Aktionsplan“ sind in der vorhanden Ordnerstruktur (->Lieferanten/A;B;C…. ) des Teams Channel Process Audit Planning abzulegen. | H1: Quick Guide Supplier Line Walk (SLW) 1. Execution from SLW The user performs the SLW using the SLW checklist and evaluates the current status. Column "Notes" contains supplementary notes which are intended to provide further assistance to the user. Part designation, part number and participant are to be entered in the header data. The Supplier Line Walk Self-Assessment only needs to be sent to Brose upon request. 2. Evaluation of the questions with "green", "yellow" or "red" Please evaluate the found status with: "green" - fully met "yellow" - Process / requirement not yet completely fulfilled, but no risk of non-conformity of the product. According to the current status, no quality complaint is to be expected. "red" - Requirements not fulfilled, risk of non-conformity of the product, a complaint cannot be ruled out. All questions must be answered in order to receive a result of the SLW! In case of "yellow" and "red", please describe the deviation in detail in the remarks field (document demonstrably and comprehensively). 3. Rating of the questions with * Questions with * are questions with higher risk and can directly lead to a non-conformity at the product in case of deviations. If a question with * is rated "red.", an immediate action is to be started and documented accordingly. 4. Immediate action For the non * questions, an immediate action can be selected manually. For questions with * an immediate action is to be started to avoid production of potential n.o.k. parts. 5. Coordinate and sign Supplier Line Walk cover sheet The header data is also the cover sheet of the SLW. The cover sheet displays the result of the SLW in green, yellow or red. A summary of the deviations is also shown. These are summarised with "Immediate measures", number of "red" and / or "yellow" rated questions. Furthermore, a date for the first feedback for the action plan to be created is to be entered. Under Participants, please enter the persons present (supplier and Brose)and let them sign. 6. Action plan For questions that have been rated with "yellow" or "red", measures, responsibilities and deadlines are to be defined below. The action plan created is followed by the person carrying out the action until all the actions in the action plan have been completed; the status is assessed / completed at the end in the respective line. 7. Result The overall result is displayed in "green", "yellow" or "red". The evaluation of the result is based on the results of the VDA's potential analysis. 8. Follow-up steps (point deduction in supplier evaluation) Depending on the number of questions that are not answered with green, points will be deducted from the supplier rating in accordance with the AA_GR_00263_01_XXX "Evaluation of suppliers of production materials during series". - Result "green" oder "yellow" no deduction in supplier evaluation - Insufficient progress in processing corrective actions -> Fehlercode 5910 -> 21 Punkte Deduction - Result red -> Result red -> from 13 question yellow -> Fehlercode 5970 -> 21 Punkte Deduction - Result red -> from 1 question red -> Fehlercode 5980 -> 41 Punkte Deduction - The L1 message is created by the person carrying it out. 9. Archive the File after the performed SLW The signed cover sheet as well as the questionnaire (with entries) and the defined ‘action plan’ are to be store (archived) in the existing folder structure ( ->suppliers/A; B; C; ...) of the Team Channel Processaudit planning.

Sheet Revision History
A2: Revision History:
A4: Revision: | C4: Update:
A5: 208 | B5: 44935 | C5: update new Format for SLW
A6: 209 | B6: 45506 | C6: over all result added
A7: 210 | B7: 45783 | C7: Question 8.1 added
A8: 211 | B8: 46113 | C8: Question 8.1 updated
